Back to Build/check report for BioC 3.17 experimental data
ABCDEFGHIJKL[M]NOPQRSTUVWXYZ

This page was generated on 2023-03-16 14:51:35 -0400 (Thu, 16 Mar 2023).

HostnameOSArch (*)R versionInstalled pkgs
nebbiolo1Linux (Ubuntu 22.04.1 LTS)x86_64R Under development (unstable) (2023-01-10 r83596) -- "Unsuffered Consequences" 4540
Click on any hostname to see more info about the system (e.g. compilers)      (*) as reported by 'uname -p', except on Windows and Mac OS X

INSTALL results for MouseGastrulationData on nebbiolo1


To the developers/maintainers of the MouseGastrulationData package:
Make sure to use the following settings in order to reproduce any error or warning you see on this page.

raw results

Package 246/417HostnameOS / ArchINSTALLBUILDCHECK
MouseGastrulationData 1.13.0  (landing page)
Jonathan Griffiths
Snapshot Date: 2023-03-16 07:30:02 -0400 (Thu, 16 Mar 2023)
git_url: https://git.bioconductor.org/packages/MouseGastrulationData
git_branch: master
git_last_commit: 480e9fd
git_last_commit_date: 2022-11-01 11:22:09 -0400 (Tue, 01 Nov 2022)
nebbiolo1Linux (Ubuntu 22.04.1 LTS) / x86_64  OK    OK    OK  UNNEEDED, same version is already published

Summary

Package: MouseGastrulationData
Version: 1.13.0
Command: /home/biocbuild/bbs-3.17-bioc/R/bin/R CMD INSTALL MouseGastrulationData
StartedAt: 2023-03-16 10:11:12 -0400 (Thu, 16 Mar 2023)
EndedAt: 2023-03-16 10:11:45 -0400 (Thu, 16 Mar 2023)
EllapsedTime: 32.5 seconds
RetCode: 0
Status:   OK  

Command output

##############################################################################
##############################################################################
###
### Running command:
###
###   /home/biocbuild/bbs-3.17-bioc/R/bin/R CMD INSTALL MouseGastrulationData
###
##############################################################################
##############################################################################


* installing to library ‘/home/biocbuild/bbs-3.17-bioc/R/library’
* installing *source* package ‘MouseGastrulationData’ ...
** using staged installation
** R
** inst
** byte-compile and prepare package for lazy loading
** help
*** installing help indices
** building package indices
** installing vignettes
** testing if installed package can be loaded from temporary location
** testing if installed package can be loaded from final location
** testing if installed package keeps a record of temporary installation path
* DONE (MouseGastrulationData)