Back to Build/check report for BioC 3.17 experimental data
ABCDEFGHIJKL[M]NOPQRSTUVWXYZ

This page was generated on 2023-01-26 14:51:33 -0500 (Thu, 26 Jan 2023).

HostnameOSArch (*)R versionInstalled pkgs
nebbiolo1Linux (Ubuntu 22.04.1 LTS)x86_64R Under development (unstable) (2023-01-10 r83596) -- "Unsuffered Consequences" 4464
Click on any hostname to see more info about the system (e.g. compilers)      (*) as reported by 'uname -p', except on Windows and Mac OS X

All results for package MouseGastrulationData


To the developers/maintainers of the MouseGastrulationData package:
Make sure to use the following settings in order to reproduce any error or warning you see on this page.

raw results

Package 243/414HostnameOS / ArchINSTALLBUILDCHECK
MouseGastrulationData 1.13.0  (landing page)
Jonathan Griffiths
Snapshot Date: 2023-01-26 07:30:03 -0500 (Thu, 26 Jan 2023)
git_url: https://git.bioconductor.org/packages/MouseGastrulationData
git_branch: master
git_last_commit: 480e9fd
git_last_commit_date: 2022-11-01 11:22:09 -0500 (Tue, 01 Nov 2022)
nebbiolo1Linux (Ubuntu 22.04.1 LTS) / x86_64  OK    OK    OK  UNNEEDED, same version is already published