Index of /checkResults/3.17/data-experiment-LATEST/MouseGastrulationData/raw-results

[ICO]NameLast modifiedSizeDescription

[DIR]Parent Directory  -  
[   ]info.dcf17-Mar-2023 03:51 310  
[DIR]nebbiolo1/17-Mar-2023 03:51 -