Back to Build/check report for BioC 3.17 experimental data |
|
This page was generated on 2023-03-30 14:51:10 -0400 (Thu, 30 Mar 2023).
Hostname | OS | Arch (*) | R version | Installed pkgs |
---|---|---|---|---|
nebbiolo1 | Linux (Ubuntu 22.04.1 LTS) | x86_64 | R Under development (unstable) (2023-03-16 r83996) -- "Unsuffered Consequences" | 4547 |
Click on any hostname to see more info about the system (e.g. compilers) (*) as reported by 'uname -p', except on Windows and Mac OS X |
To the developers/maintainers of the MouseGastrulationData package: Use the following Renviron settings to reproduce errors and warnings. Note: If "R CMD check" recently failed on the Linux builder over a missing dependency, add the missing dependency to "Suggests" in your DESCRIPTION file. See the Renviron.bioc for details. |
Package 246/417 | Hostname | OS / Arch | INSTALL | BUILD | CHECK | ||||||||
MouseGastrulationData 1.13.0 (landing page) Jonathan Griffiths
| nebbiolo1 | Linux (Ubuntu 22.04.1 LTS) / x86_64 | OK | OK | OK | ![]() | |||||||
Package: MouseGastrulationData |
Version: 1.13.0 |
Command: /home/biocbuild/bbs-3.17-bioc/R/bin/R CMD check --install=check:MouseGastrulationData.install-out.txt --library=/home/biocbuild/bbs-3.17-bioc/R/site-library --timings MouseGastrulationData_1.13.0.tar.gz |
StartedAt: 2023-03-30 11:38:12 -0400 (Thu, 30 Mar 2023) |
EndedAt: 2023-03-30 11:44:30 -0400 (Thu, 30 Mar 2023) |
EllapsedTime: 378.0 seconds |
RetCode: 0 |
Status: OK |
CheckDir: MouseGastrulationData.Rcheck |
Warnings: 0 |
############################################################################## ############################################################################## ### ### Running command: ### ### /home/biocbuild/bbs-3.17-bioc/R/bin/R CMD check --install=check:MouseGastrulationData.install-out.txt --library=/home/biocbuild/bbs-3.17-bioc/R/site-library --timings MouseGastrulationData_1.13.0.tar.gz ### ############################################################################## ############################################################################## * using log directory ‘/home/biocbuild/bbs-3.17-data-experiment/meat/MouseGastrulationData.Rcheck’ * using R Under development (unstable) (2023-03-16 r83996) * using platform: x86_64-pc-linux-gnu (64-bit) * R was compiled by gcc (Ubuntu 11.3.0-1ubuntu1~22.04) 11.3.0 GNU Fortran (Ubuntu 11.3.0-1ubuntu1~22.04) 11.3.0 * running under: Ubuntu 22.04.2 LTS * using session charset: UTF-8 * checking for file ‘MouseGastrulationData/DESCRIPTION’ ... OK * this is package ‘MouseGastrulationData’ version ‘1.13.0’ * package encoding: UTF-8 * checking package namespace information ... OK * checking package dependencies ... OK * checking if this is a source package ... OK * checking if there is a namespace ... OK * checking for hidden files and directories ... OK * checking for portable file names ... OK * checking for sufficient/correct file permissions ... OK * checking whether package ‘MouseGastrulationData’ can be installed ... OK * checking installed package size ... OK * checking package directory ... OK * checking ‘build’ directory ... OK * checking DESCRIPTION meta-information ... OK * checking top-level files ... OK * checking for left-over files ... OK * checking index information ... OK * checking package subdirectories ... OK * checking R files for non-ASCII characters ... OK * checking R files for syntax errors ... OK * checking whether the package can be loaded ... OK * checking whether the package can be loaded with stated dependencies ... OK * checking whether the package can be unloaded cleanly ... OK * checking whether the namespace can be loaded with stated dependencies ... OK * checking whether the namespace can be unloaded cleanly ... OK * checking loading without being on the library search path ... OK * checking dependencies in R code ... OK * checking S3 generic/method consistency ... OK * checking replacement functions ... OK * checking foreign function calls ... OK * checking R code for possible problems ... NOTE .addAltExp: no visible global function definition for ‘assays’ .addAltExp: no visible global function definition for ‘assays<-’ Undefined global functions or variables: assays assays<- * checking Rd files ... OK * checking Rd metadata ... OK * checking Rd cross-references ... OK * checking for missing documentation entries ... OK * checking for code/documentation mismatches ... OK * checking Rd \usage sections ... OK * checking Rd contents ... OK * checking for unstated dependencies in examples ... OK * checking files in ‘vignettes’ ... OK * checking examples ... OK Examples with CPU (user + system) or elapsed time > 5s user system elapsed Tal1ChimeraData 21.155 2.256 24.731 EmbryoAtlasData 19.530 1.490 23.363 TChimeraData 13.666 0.795 20.582 WTChimeraData 12.063 0.942 14.401 LohoffSeqFISHData 10.378 0.492 12.304 RAMultiomeData 7.851 0.579 9.112 GuibentifExtraData 5.502 0.400 6.566 * checking for unstated dependencies in vignettes ... OK * checking package vignettes in ‘inst/doc’ ... OK * checking running R code from vignettes ... ‘MouseGastrulationData.Rmd’ using ‘UTF-8’... OK NONE * checking re-building of vignette outputs ... OK * checking PDF version of manual ... OK * DONE Status: 1 NOTE See ‘/home/biocbuild/bbs-3.17-data-experiment/meat/MouseGastrulationData.Rcheck/00check.log’ for details.
MouseGastrulationData.Rcheck/00install.out
############################################################################## ############################################################################## ### ### Running command: ### ### /home/biocbuild/bbs-3.17-bioc/R/bin/R CMD INSTALL MouseGastrulationData ### ############################################################################## ############################################################################## * installing to library ‘/home/biocbuild/bbs-3.17-bioc/R/site-library’ * installing *source* package ‘MouseGastrulationData’ ... ** using staged installation ** R ** inst ** byte-compile and prepare package for lazy loading ** help *** installing help indices ** building package indices ** installing vignettes ** testing if installed package can be loaded from temporary location ** testing if installed package can be loaded from final location ** testing if installed package keeps a record of temporary installation path * DONE (MouseGastrulationData)
MouseGastrulationData.Rcheck/MouseGastrulationData-Ex.timings
name | user | system | elapsed | |
AtlasSampleMetadata | 0.005 | 0.000 | 0.006 | |
BPSATACData | 0 | 0 | 0 | |
EmbryoAtlasData | 19.530 | 1.490 | 23.363 | |
EmbryoCelltypeColours | 0 | 0 | 0 | |
GuibentifExtraData | 5.502 | 0.400 | 6.566 | |
LohoffSeqFISHData | 10.378 | 0.492 | 12.304 | |
RAMultiomeData | 7.851 | 0.579 | 9.112 | |
RASampleMetadata | 0.000 | 0.002 | 0.001 | |
TChimeraData | 13.666 | 0.795 | 20.582 | |
Tal1ChimeraData | 21.155 | 2.256 | 24.731 | |
WTChimeraData | 12.063 | 0.942 | 14.401 | |