Index of /checkResults/3.17/bioc-LATEST/exomePeak2/raw-results

[ICO]NameLast modifiedSizeDescription

[DIR]Parent Directory  -  
[   ]info.dcf28-May-2023 00:06 274  
[DIR]merida1/28-May-2023 00:06 -  
[DIR]nebbiolo1/28-May-2023 00:05 -  
[DIR]palomino3/28-May-2023 00:05 -