Index of /checkResults/3.17/bioc-LATEST/crisprBowtie/raw-results

[ICO]NameLast modifiedSizeDescription

[DIR]Parent Directory  -  
[   ]info.dcf06-Jun-2023 00:05 287  
[DIR]merida1/06-Jun-2023 00:05 -  
[DIR]nebbiolo1/06-Jun-2023 00:03 -  
[DIR]palomino3/06-Jun-2023 00:04 -