Index of /checkResults/3.17/bioc-LATEST/atena/raw-results

[ICO]NameLast modifiedSizeDescription

[DIR]Parent Directory  -  
[   ]info.dcf08-Jun-2023 00:06 274  
[DIR]merida1/08-Jun-2023 00:06 -  
[DIR]nebbiolo1/08-Jun-2023 00:05 -  
[DIR]palomino3/08-Jun-2023 00:05 -