Index of /checkResults/3.17/bioc-LATEST/GenVisR/raw-results
Name
Last modified
Size
Description
Parent Directory
-
info.dcf
04-Jun-2023 03:38
275
merida1/
04-Jun-2023 03:38
-
nebbiolo1/
04-Jun-2023 03:36
-
palomino3/
04-Jun-2023 03:37
-