Index of /checkResults/3.17/bioc-LATEST/Cepo/raw-results
Name
Last modified
Size
Description
Parent Directory
-
info.dcf
21-Mar-2023 00:06
261
merida1/
21-Mar-2023 00:06
-
nebbiolo1/
21-Mar-2023 00:04
-
palomino3/
21-Mar-2023 00:05
-