Index of /checkResults/3.17/bioc-LATEST/Cardinal/raw-results
Name
Last modified
Size
Description
Parent Directory
-
info.dcf
25-Mar-2023 00:06
271
merida1/
25-Mar-2023 00:06
-
nebbiolo1/
25-Mar-2023 00:05
-
palomino3/
25-Mar-2023 00:05
-