Index of /checkResults/3.17/bioc-LATEST/ASpli/raw-results

[ICO]NameLast modifiedSizeDescription

[DIR]Parent Directory  -  
[   ]info.dcf02-Apr-2023 00:05 266  
[DIR]merida1/02-Apr-2023 00:05 -  
[DIR]nebbiolo1/02-Apr-2023 00:04 -  
[DIR]palomino3/02-Apr-2023 00:05 -