Index of /checkResults/3.15/bioc-LATEST/ensemblVEP/raw-results

[ICO]NameLast modifiedSizeDescription

[DIR]Parent Directory  -  
[   ]info.dcf28-Jun-2022 00:09 303  
[DIR]merida1/25-Jun-2022 01:07 -  
[DIR]nebbiolo1/28-Jun-2022 00:09 -