Index of /checkResults/3.15/bioc-LATEST/DESeq2/raw-results

[ICO]NameLast modifiedSizeDescription

[DIR]Parent Directory  -  
[DIR]merida1/11-Aug-2022 04:40 -  
[DIR]nebbiolo1/11-Aug-2022 04:39 -  
[DIR]palomino3/04-Aug-2022 02:21 -  
[DIR]riesling1/19-Mar-2022 00:07 -  
[   ]info.dcf11-Aug-2022 04:40 276