Index of /checkResults/3.15/bioc-LATEST/DESeq2/raw-results/nebbiolo1

[ICO]NameLast modifiedSizeDescription

[DIR]Parent Directory  -  
[TXT]buildsrc-out.txt11-Aug-2022 04:39 832  
[   ]buildsrc-summary.dcf11-Aug-2022 04:39 415  
[TXT]checksrc-out.txt11-Aug-2022 04:39 3.6K 
[   ]checksrc-summary.dcf11-Aug-2022 04:39 420  
[TXT]install-out.txt11-Aug-2022 04:39 1.9K 
[   ]install-summary.dcf11-Aug-2022 04:39 257