Index of /checkResults/3.15/bioc-LATEST/DESeq2/raw-results/palomino3

[ICO]NameLast modifiedSizeDescription

[DIR]Parent Directory  -  
[TXT]buildbin-out.txt16-Aug-2022 02:21 2.2K 
[   ]buildbin-summary.dcf16-Aug-2022 02:21 509  
[TXT]buildsrc-out.txt16-Aug-2022 02:21 866  
[   ]buildsrc-summary.dcf16-Aug-2022 02:21 449  
[TXT]checksrc-out.txt16-Aug-2022 02:21 4.1K 
[   ]checksrc-summary.dcf16-Aug-2022 02:21 443  
[TXT]install-out.txt16-Aug-2022 02:21 2.0K 
[   ]install-summary.dcf16-Aug-2022 02:21 266