Index of /checkResults/release/workflows-LATEST/sequencing/raw-results

[ICO]NameLast modifiedSizeDescription

[DIR]Parent Directory  -  
[   ]info.dcf07-Jun-2023 03:00 303  
[DIR]merida1/07-Jun-2023 03:00 -  
[DIR]nebbiolo1/07-Jun-2023 03:00 -  
[DIR]palomino3/07-Jun-2023 03:00 -