Index of /checkResults/release/workflows-LATEST/sequencing/raw-results/palomino3
Name
Last modified
Size
Description
Parent Directory
-
buildsrc-out.txt
23-Sep-2023 03:00
926
buildsrc-summary.dcf
23-Sep-2023 03:00
465
install-out.txt
23-Sep-2023 03:00
948
install-summary.dcf
23-Sep-2023 03:00
274