Index of /checkResults/release/workflows-LATEST/sequencing/raw-results/merida1
Name
Last modified
Size
Description
Parent Directory
-
buildsrc-out.txt
23-Sep-2023 03:00
902
buildsrc-summary.dcf
23-Sep-2023 03:00
437
install-out.txt
23-Sep-2023 03:00
1.0K
install-summary.dcf
23-Sep-2023 03:00
276