Index of /checkResults/release/workflows-LATEST/sequencing/raw-results/nebbiolo1

[ICO]NameLast modifiedSizeDescription

[DIR]Parent Directory  -  
[TXT]buildsrc-out.txt23-Sep-2023 03:00 892  
[   ]buildsrc-summary.dcf23-Sep-2023 03:00 426  
[TXT]install-out.txt23-Sep-2023 03:00 944  
[   ]install-summary.dcf23-Sep-2023 03:00 265