Index of /checkResults/release/workflows-LATEST/liftOver/raw-results

[ICO]NameLast modifiedSizeDescription

[DIR]Parent Directory  -  
[DIR]palomino3/19-Jun-2024 05:30 -  
[DIR]nebbiolo1/19-Jun-2024 05:30 -  
[DIR]merida1/19-Jun-2024 05:30 -  
[DIR]lconway/12-Jun-2024 05:30 -  
[   ]info.dcf19-Jun-2024 05:30 299