Index of /checkResults/release/workflows-LATEST/liftOver/raw-results/lconway

[ICO]NameLast modifiedSizeDescription

[DIR]Parent Directory  -  
[TXT]buildsrc-out.txt22-May-2024 03:00 854  
[   ]buildsrc-summary.dcf22-May-2024 03:00 430  
[TXT]install-out.txt22-May-2024 03:00 1.0K 
[   ]install-summary.dcf22-May-2024 03:00 271