Index of /checkResults/release/workflows-LATEST/liftOver/raw-results/nebbiolo1
Name
Last modified
Size
Description
Parent Directory
-
buildsrc-out.txt
27-Sep-2023 03:00
844
buildsrc-summary.dcf
27-Sep-2023 03:00
420
install-out.txt
27-Sep-2023 03:00
1.0K
install-summary.dcf
27-Sep-2023 03:00
261