Index of /checkResults/release/workflows-LATEST/liftOver/raw-results/palomino3
Name
Last modified
Size
Description
Parent Directory
-
buildsrc-out.txt
27-Sep-2023 03:00
879
buildsrc-summary.dcf
27-Sep-2023 03:00
456
install-out.txt
27-Sep-2023 03:00
1.0K
install-summary.dcf
27-Sep-2023 03:00
270