Index of /checkResults/release/workflows-LATEST/liftOver/raw-results

[ICO]NameLast modifiedSizeDescription

[DIR]Parent Directory  -  
[   ]info.dcf22-Mar-2023 03:00 299  
[DIR]lconway/22-Mar-2023 03:00 -  
[DIR]nebbiolo2/22-Mar-2023 03:00 -  
[DIR]palomino4/22-Mar-2023 03:00 -