Index of /checkResults/release/workflows-LATEST/RNAseq123/raw-results

[ICO]NameLast modifiedSizeDescription

[DIR]Parent Directory  -  
[   ]info.dcf10-Jun-2023 03:00 278  
[DIR]merida1/10-Jun-2023 03:00 -  
[DIR]nebbiolo1/10-Jun-2023 03:00 -  
[DIR]palomino3/10-Jun-2023 03:00 -