Index of /checkResults/release/workflows-LATEST/RNAseq123/raw-results/nebbiolo1
Name
Last modified
Size
Description
Parent Directory
-
buildsrc-out.txt
23-Sep-2023 03:00
888
buildsrc-summary.dcf
23-Sep-2023 03:00
423
install-out.txt
23-Sep-2023 03:00
948
install-summary.dcf
23-Sep-2023 03:00
263