Index of /checkResults/release/workflows-LATEST/RNAseq123/raw-results/palomino3
Name
Last modified
Size
Description
Parent Directory
-
buildsrc-out.txt
23-Sep-2023 03:00
921
buildsrc-summary.dcf
23-Sep-2023 03:00
461
install-out.txt
23-Sep-2023 03:00
953
install-summary.dcf
23-Sep-2023 03:00
272