Index of /checkResults/release/workflows-LATEST/RNAseq123/raw-results/merida1
Name
Last modified
Size
Description
Parent Directory
-
buildsrc-out.txt
23-Sep-2023 03:00
898
buildsrc-summary.dcf
23-Sep-2023 03:00
434
install-out.txt
23-Sep-2023 03:00
1.0K
install-summary.dcf
23-Sep-2023 03:00
274