Index of /checkResults/release/workflows-LATEST/EGSEA123/raw-results

[ICO]NameLast modifiedSizeDescription

[DIR]Parent Directory  -  
[DIR]lconway/18-May-2024 03:00 -  
[DIR]merida1/02-Mar-2024 04:00 -  
[DIR]nebbiolo1/18-May-2024 03:00 -  
[DIR]palomino3/18-May-2024 03:00 -  
[   ]info.dcf18-May-2024 03:00 276