Index of /checkResults/release/workflows-LATEST/EGSEA123/raw-results/merida1
Name
Last modified
Size
Description
Parent Directory
-
buildsrc-out.txt
27-Sep-2023 03:00
854
buildsrc-summary.dcf
27-Sep-2023 03:00
431
install-out.txt
27-Sep-2023 03:00
1.1K
install-summary.dcf
27-Sep-2023 03:00
271