Index of /checkResults/release/workflows-LATEST/EGSEA123/raw-results/palomino3
Name
Last modified
Size
Description
Parent Directory
-
buildsrc-out.txt
27-Sep-2023 03:00
879
buildsrc-summary.dcf
27-Sep-2023 03:00
457
install-out.txt
27-Sep-2023 03:00
1.0K
install-summary.dcf
27-Sep-2023 03:00
270