Back to Workflows build report for BioC 3.16

This page was generated on 2023-02-03 14:00:08 -0500 (Fri, 03 Feb 2023).

HostnameOSArch (*)R versionInstalled pkgs
nebbiolo2Linux (Ubuntu 20.04.5 LTS)x86_644.2.2 (2022-10-31) -- "Innocent and Trusting" 4511
palomino4Windows Server 2022 Datacenterx644.2.2 (2022-10-31 ucrt) -- "Innocent and Trusting" 4289
lconwaymacOS 12.5.1 Montereyx86_644.2.2 (2022-10-31) -- "Innocent and Trusting" 4318
Click on any hostname to see more info about the system (e.g. compilers)      (*) as reported by 'uname -p', except on Windows and Mac OS X

BUILD results for CAGEWorkflow on lconway


To the developers/maintainers of the CAGEWorkflow package:
Make sure to use the following settings in order to reproduce any error or warning you see on this page.

raw results

Package 5/28HostnameOS / ArchINSTALLBUILD
CAGEWorkflow 1.14.0  (landing page)
Malte Thodberg
Snapshot Date: 2023-02-03 10:45:01 -0500 (Fri, 03 Feb 2023)
git_url: https://git.bioconductor.org/packages/CAGEWorkflow
git_branch: RELEASE_3_16
git_last_commit: 476cd60
git_last_commit_date: 2022-11-01 10:34:51 -0500 (Tue, 01 Nov 2022)
nebbiolo2Linux (Ubuntu 20.04.5 LTS) / x86_64  OK    OK  UNNEEDED, same version is already published
palomino4Windows Server 2022 Datacenter / x64... NOT SUPPORTED ...
lconwaymacOS 12.5.1 Monterey / x86_64  OK    OK  

Summary

Package: CAGEWorkflow
Version: 1.14.0
Command: /Library/Frameworks/R.framework/Resources/bin/R CMD build --keep-empty-dirs --no-resave-data CAGEWorkflow
StartedAt: 2023-02-03 11:02:51 -0500 (Fri, 03 Feb 2023)
EndedAt: 2023-02-03 11:10:36 -0500 (Fri, 03 Feb 2023)
EllapsedTime: 465.2 seconds
RetCode: 0
Status:   OK  
PackageFile: CAGEWorkflow_1.14.0.tar.gz
PackageFileSize: 735.1 KiB

Command output

##############################################################################
##############################################################################
###
### Running command:
###
###   /Library/Frameworks/R.framework/Resources/bin/R CMD build --keep-empty-dirs --no-resave-data CAGEWorkflow
###
##############################################################################
##############################################################################


* checking for file ‘CAGEWorkflow/DESCRIPTION’ ... OK
* preparing ‘CAGEWorkflow’:
* checking DESCRIPTION meta-information ... OK
* installing the package to build vignettes
* creating vignettes ... OK
* checking for LF line-endings in source and make files and shell scripts
* checking for empty or unneeded directories
Omitted ‘LazyData’ from DESCRIPTION
* building ‘CAGEWorkflow_1.14.0.tar.gz’