Back to Build/check report for BioC 3.19 experimental data
ABCDEFGHIJKLMNO[P]QRSTUVWXYZ

This page was generated on 2024-06-20 14:51 -0400 (Thu, 20 Jun 2024).

HostnameOSArch (*)R versionInstalled pkgs
nebbiolo1Linux (Ubuntu 22.04.3 LTS)x86_644.4.0 (2024-04-24) -- "Puppy Cup" 4758
Click on any hostname to see more info about the system (e.g. compilers)      (*) as reported by 'uname -p', except on Windows and Mac OS X

Package 283/430HostnameOS / ArchINSTALLBUILDCHECK
pasilla 1.32.0  (landing page)
Alejandro Reyes
Snapshot Date: 2024-06-20 07:30 -0400 (Thu, 20 Jun 2024)
git_url: https://git.bioconductor.org/packages/pasilla
git_branch: RELEASE_3_19
git_last_commit: aab77eb
git_last_commit_date: 2024-04-30 10:30:30 -0400 (Tue, 30 Apr 2024)
nebbiolo1Linux (Ubuntu 22.04.3 LTS) / x86_64  OK    OK    OK  UNNEEDED, same version is already published


BUILD results for pasilla on nebbiolo1

To the developers/maintainers of the pasilla package:
- Use the following Renviron settings to reproduce errors and warnings.
- If 'R CMD check' started to fail recently on the Linux builder(s) over a missing dependency, add the missing dependency to 'Suggests:' in your DESCRIPTION file. See Renviron.bioc for more information.

raw results


Summary

Package: pasilla
Version: 1.32.0
Command: /home/biocbuild/bbs-3.19-bioc/R/bin/R CMD build --keep-empty-dirs --no-resave-data pasilla
StartedAt: 2024-06-20 10:43:44 -0400 (Thu, 20 Jun 2024)
EndedAt: 2024-06-20 10:44:38 -0400 (Thu, 20 Jun 2024)
EllapsedTime: 54.8 seconds
RetCode: 0
Status:   OK  
PackageFile: pasilla_1.32.0.tar.gz
PackageFileSize: 3.151 MiB

Command output

##############################################################################
##############################################################################
###
### Running command:
###
###   /home/biocbuild/bbs-3.19-bioc/R/bin/R CMD build --keep-empty-dirs --no-resave-data pasilla
###
##############################################################################
##############################################################################


* checking for file ‘pasilla/DESCRIPTION’ ... OK
* preparing ‘pasilla’:
* checking DESCRIPTION meta-information ... OK
* installing the package to build vignettes
* creating vignettes ... OK
* checking for LF line-endings in source and make files and shell scripts
* checking for empty or unneeded directories
* looking to see if a ‘data/datalist’ file should be added
* building ‘pasilla_1.32.0.tar.gz’