Back to Build/check report for BioC 3.16 experimental data
ABCDEFGHIJKLMNO[P]QRSTUVWXYZ

This page was generated on 2022-11-24 14:50:30 -0500 (Thu, 24 Nov 2022).

HostnameOSArch (*)R versionInstalled pkgs
nebbiolo2Linux (Ubuntu 20.04.5 LTS)x86_644.2.2 (2022-10-31) -- "Innocent and Trusting" 4502
Click on any hostname to see more info about the system (e.g. compilers)      (*) as reported by 'uname -p', except on Windows and Mac OS X

All results for package pasilla


To the developers/maintainers of the pasilla package:
Make sure to use the following settings in order to reproduce any error or warning you see on this page.

raw results

Package 272/416HostnameOS / ArchINSTALLBUILDCHECK
pasilla 1.26.0  (landing page)
Alejandro Reyes
Snapshot Date: 2022-11-24 07:30:02 -0500 (Thu, 24 Nov 2022)
git_url: https://git.bioconductor.org/packages/pasilla
git_branch: RELEASE_3_16
git_last_commit: f5b715f
git_last_commit_date: 2022-11-01 10:47:11 -0500 (Tue, 01 Nov 2022)
nebbiolo2Linux (Ubuntu 20.04.5 LTS) / x86_64  OK    OK    WARNINGS  UNNEEDED, same version is already published