Index of /checkResults/release/data-experiment-LATEST/pasilla/raw-results

[ICO]NameLast modifiedSizeDescription

[DIR]Parent Directory  -  
[   ]info.dcf21-Jun-2024 03:51 282  
[DIR]nebbiolo1/21-Jun-2024 03:51 -