Back to Mac ARM64 build report for BioC 3.18
ABCDEF[G]HIJKLMNOPQRSTUVWXYZ

This page was generated on 2024-03-28 11:32:21 -0400 (Thu, 28 Mar 2024).

HostnameOSArch (*)R versionInstalled pkgs
kjohnson1macOS 13.6.1 Venturaarm644.3.3 (2024-02-29) -- "Angel Food Cake" 4376
Click on any hostname to see more info about the system (e.g. compilers)      (*) as reported by 'uname -p', except on Windows and Mac OS X

Package 826/2266HostnameOS / ArchINSTALLBUILDCHECKBUILD BIN
GenomicInteractions 1.36.0  (landing page)
Liz Ing-Simmons
Snapshot Date: 2024-03-26 09:00:03 -0400 (Tue, 26 Mar 2024)
git_url: https://git.bioconductor.org/packages/GenomicInteractions
git_branch: RELEASE_3_18
git_last_commit: 879441e
git_last_commit_date: 2023-10-24 10:38:45 -0400 (Tue, 24 Oct 2023)
kjohnson1macOS 13.6.1 Ventura / arm64  OK    OK    OK    OK  UNNEEDED, same version is already published

BUILD results for GenomicInteractions on kjohnson1


To the developers/maintainers of the GenomicInteractions package:
- Use the following Renviron settings to reproduce errors and warnings.
- If 'R CMD check' started to fail recently on the Linux builder(s) over a missing dependency, add the missing dependency to 'Suggests:' in your DESCRIPTION file. See Renviron.bioc for more information.

raw results


Summary

Package: GenomicInteractions
Version: 1.36.0
Command: /Library/Frameworks/R.framework/Resources/bin/R CMD build --keep-empty-dirs --no-resave-data GenomicInteractions
StartedAt: 2024-03-26 18:36:58 -0400 (Tue, 26 Mar 2024)
EndedAt: 2024-03-26 18:40:26 -0400 (Tue, 26 Mar 2024)
EllapsedTime: 208.1 seconds
RetCode: 0
Status:   OK  
PackageFile: GenomicInteractions_1.36.0.tar.gz
PackageFileSize: 3.507 MiB

Command output

##############################################################################
##############################################################################
###
### Running command:
###
###   /Library/Frameworks/R.framework/Resources/bin/R CMD build --keep-empty-dirs --no-resave-data GenomicInteractions
###
##############################################################################
##############################################################################


* checking for file ‘GenomicInteractions/DESCRIPTION’ ... OK
* preparing ‘GenomicInteractions’:
* checking DESCRIPTION meta-information ... OK
* installing the package to build vignettes
* creating vignettes ... OK
* checking for LF line-endings in source and make files and shell scripts
* checking for empty or unneeded directories
* looking to see if a ‘data/datalist’ file should be added
* building ‘GenomicInteractions_1.36.0.tar.gz’