Back to Multiple platform build/check report for BioC 3.12
ABCDEFGHIJKLMNOPQRS[T]UVWXYZ

BUILD BIN report for tweeDEseq on merida1

This page was generated on 2021-01-19 11:58:45 -0500 (Tue, 19 Jan 2021).

TO THE DEVELOPERS/MAINTAINERS OF THE tweeDEseq PACKAGE: Please make sure to use the following settings in order to reproduce any error or warning you see on this page.
Package 1912/1974HostnameOS / ArchINSTALLBUILDCHECKBUILD BIN
tweeDEseq 1.36.0
Juan R Gonzalez
Snapshot Date: 2021-01-18 14:42:24 -0500 (Mon, 18 Jan 2021)
URL: https://git.bioconductor.org/packages/tweeDEseq
Branch: RELEASE_3_12
Last Commit: 0c9d10f
Last Changed Date: 2020-10-27 10:43:48 -0500 (Tue, 27 Oct 2020)
malbec1 Linux (Ubuntu 18.04.5 LTS) / x86_64  OK  OK  OK UNNEEDED, same version exists in internal repository
nebbiolo1 Linux (Ubuntu 20.04.1 LTS) / x86_64  OK  OK  OK 
tokay1 Windows Server 2012 R2 Standard / x64  OK  OK  WARNINGS  OK UNNEEDED, same version exists in internal repository
merida1 macOS 10.14.6 Mojave / x86_64  OK  OK  OK [ OK ]UNNEEDED, same version exists in internal repository

Summary

Package: tweeDEseq
Version: 1.36.0
Command: rm -rf tweeDEseq.buildbin-libdir && mkdir tweeDEseq.buildbin-libdir && /Users/biocbuild/BBS/utils/build-universal.sh tweeDEseq_1.36.0.tar.gz /Library/Frameworks/R.framework/Versions/Current/Resources/bin/R tweeDEseq.buildbin-libdir
StartedAt: 2021-01-19 10:34:32 -0500 (Tue, 19 Jan 2021)
EndedAt: 2021-01-19 10:35:36 -0500 (Tue, 19 Jan 2021)
EllapsedTime: 64.0 seconds
RetCode: 0
Status:  OK 
PackageFile: tweeDEseq_1.36.0.tgz
PackageFileSize: 474.1 KiB

Command output

##############################################################################
##############################################################################
###
### Running command:
###
###   rm -rf tweeDEseq.buildbin-libdir && mkdir tweeDEseq.buildbin-libdir && /Users/biocbuild/BBS/utils/build-universal.sh tweeDEseq_1.36.0.tar.gz /Library/Frameworks/R.framework/Versions/Current/Resources/bin/R tweeDEseq.buildbin-libdir
###
##############################################################################
##############################################################################


>>>>>>> 
>>>>>>> INSTALLATION WITH 'R CMD INSTALL --preclean --no-multiarch --library=tweeDEseq.buildbin-libdir tweeDEseq_1.36.0.tar.gz'
>>>>>>> 

* installing *source* package ‘tweeDEseq’ ...
** using staged installation
** libs
clang -mmacosx-version-min=10.13 -I"/Library/Frameworks/R.framework/Resources/include" -DNDEBUG   -I/usr/local/include   -fPIC  -Wall -g -O2  -c cov_wt_C.c -o cov_wt_C.o
clang -mmacosx-version-min=10.13 -I"/Library/Frameworks/R.framework/Resources/include" -DNDEBUG   -I/usr/local/include   -fPIC  -Wall -g -O2  -c init_tweeDEseq.c -o init_tweeDEseq.o
clang -mmacosx-version-min=10.13 -I"/Library/Frameworks/R.framework/Resources/include" -DNDEBUG   -I/usr/local/include   -fPIC  -Wall -g -O2  -c loglikGlm.c -o loglikGlm.o
clang -mmacosx-version-min=10.13 -I"/Library/Frameworks/R.framework/Resources/include" -DNDEBUG   -I/usr/local/include   -fPIC  -Wall -g -O2  -c logprobs.c -o logprobs.o
clang -mmacosx-version-min=10.13 -I"/Library/Frameworks/R.framework/Resources/include" -DNDEBUG   -I/usr/local/include   -fPIC  -Wall -g -O2  -c permtest.c -o permtest.o
clang -mmacosx-version-min=10.13 -I"/Library/Frameworks/R.framework/Resources/include" -DNDEBUG   -I/usr/local/include   -fPIC  -Wall -g -O2  -c probs.c -o probs.o
clang -mmacosx-version-min=10.13 -I"/Library/Frameworks/R.framework/Resources/include" -DNDEBUG   -I/usr/local/include   -fPIC  -Wall -g -O2  -c zhu2.c -o zhu2.o
clang -mmacosx-version-min=10.13 -I"/Library/Frameworks/R.framework/Resources/include" -DNDEBUG   -I/usr/local/include   -fPIC  -Wall -g -O2  -c zhu3.c -o zhu3.o
clang -mmacosx-version-min=10.13 -dynamiclib -Wl,-headerpad_max_install_names -undefined dynamic_lookup -single_module -multiply_defined suppress -L/Library/Frameworks/R.framework/Resources/lib -L/usr/local/lib -o tweeDEseq.so cov_wt_C.o init_tweeDEseq.o loglikGlm.o logprobs.o permtest.o probs.o zhu2.o zhu3.o -F/Library/Frameworks/R.framework/.. -framework R -Wl,-framework -Wl,CoreFoundation
installing to /Users/biocbuild/bbs-3.12-bioc/meat/tweeDEseq.buildbin-libdir/00LOCK-tweeDEseq/00new/tweeDEseq/libs
** R
** data
** inst
** byte-compile and prepare package for lazy loading
** help
*** installing help indices
** building package indices
** installing vignettes
** testing if installed package can be loaded from temporary location
** checking absolute paths in shared objects and dynamic libraries
** testing if installed package can be loaded from final location
** testing if installed package keeps a record of temporary installation path
* DONE (tweeDEseq)


>>>>>>> 
>>>>>>> FIXING LINKS FOR tweeDEseq.buildbin-libdir/tweeDEseq/libs/tweeDEseq.so
>>>>>>> 

install_name_tool -change "/usr/local/lib/libgcc_s.1.dylib" "/Library/Frameworks/R.framework/Versions/4.0/Resources/lib/libgcc_s.1.dylib" "tweeDEseq.buildbin-libdir/tweeDEseq/libs/tweeDEseq.so"
install_name_tool -change "/usr/local/lib/libgfortran.5.dylib" "/Library/Frameworks/R.framework/Versions/4.0/Resources/lib/libgfortran.5.dylib" "tweeDEseq.buildbin-libdir/tweeDEseq/libs/tweeDEseq.so"
install_name_tool -change "/usr/local/lib/libquadmath.0.dylib" "/Library/Frameworks/R.framework/Versions/4.0/Resources/lib/libquadmath.0.dylib" "tweeDEseq.buildbin-libdir/tweeDEseq/libs/tweeDEseq.so"