Back to Multiple platform build/check report for BioC 3.12
ABCDEFGHIJKLMNOPQRS[T]UVWXYZ

CHECK report for tweeDEseq on nebbiolo1

This page was generated on 2021-01-19 11:54:35 -0500 (Tue, 19 Jan 2021).

TO THE DEVELOPERS/MAINTAINERS OF THE tweeDEseq PACKAGE: Please make sure to use the following settings in order to reproduce any error or warning you see on this page.
Package 1912/1974HostnameOS / ArchINSTALLBUILDCHECKBUILD BIN
tweeDEseq 1.36.0
Juan R Gonzalez
Snapshot Date: 2021-01-18 14:42:24 -0500 (Mon, 18 Jan 2021)
URL: https://git.bioconductor.org/packages/tweeDEseq
Branch: RELEASE_3_12
Last Commit: 0c9d10f
Last Changed Date: 2020-10-27 10:43:48 -0500 (Tue, 27 Oct 2020)
malbec1 Linux (Ubuntu 18.04.5 LTS) / x86_64  OK  OK  OK UNNEEDED, same version exists in internal repository
nebbiolo1 Linux (Ubuntu 20.04.1 LTS) / x86_64  OK  OK [ OK ]
tokay1 Windows Server 2012 R2 Standard / x64  OK  OK  WARNINGS  OK UNNEEDED, same version exists in internal repository
merida1 macOS 10.14.6 Mojave / x86_64  OK  OK  OK  OK UNNEEDED, same version exists in internal repository

Summary

Package: tweeDEseq
Version: 1.36.0
Command: /home/biocbuild/bbs-3.12-bioc/R/bin/R CMD check --install=check:tweeDEseq.install-out.txt --library=/home/biocbuild/bbs-3.12-bioc/R/library --no-vignettes --timings tweeDEseq_1.36.0.tar.gz
StartedAt: 2021-01-18 23:28:00 -0500 (Mon, 18 Jan 2021)
EndedAt: 2021-01-18 23:28:42 -0500 (Mon, 18 Jan 2021)
EllapsedTime: 42.0 seconds
RetCode: 0
Status:  OK 
CheckDir: tweeDEseq.Rcheck
Warnings: 0

Command output

##############################################################################
##############################################################################
###
### Running command:
###
###   /home/biocbuild/bbs-3.12-bioc/R/bin/R CMD check --install=check:tweeDEseq.install-out.txt --library=/home/biocbuild/bbs-3.12-bioc/R/library --no-vignettes --timings tweeDEseq_1.36.0.tar.gz
###
##############################################################################
##############################################################################


* using log directory ‘/home/biocbuild/bbs-3.12-bioc/meat/tweeDEseq.Rcheck’
* using R version 4.0.3 (2020-10-10)
* using platform: x86_64-pc-linux-gnu (64-bit)
* using session charset: UTF-8
* using option ‘--no-vignettes’
* checking for file ‘tweeDEseq/DESCRIPTION’ ... OK
* checking extension type ... Package
* this is package ‘tweeDEseq’ version ‘1.36.0’
* checking package namespace information ... OK
* checking package dependencies ... OK
* checking if this is a source package ... OK
* checking if there is a namespace ... OK
* checking for hidden files and directories ... OK
* checking for portable file names ... OK
* checking for sufficient/correct file permissions ... OK
* checking whether package ‘tweeDEseq’ can be installed ... OK
* checking installed package size ... OK
* checking package directory ... OK
* checking ‘build’ directory ... OK
* checking DESCRIPTION meta-information ... OK
* checking top-level files ... OK
* checking for left-over files ... OK
* checking index information ... OK
* checking package subdirectories ... OK
* checking R files for non-ASCII characters ... OK
* checking R files for syntax errors ... OK
* checking whether the package can be loaded ... OK
* checking whether the package can be loaded with stated dependencies ... OK
* checking whether the package can be unloaded cleanly ... OK
* checking whether the namespace can be loaded with stated dependencies ... OK
* checking whether the namespace can be unloaded cleanly ... OK
* checking dependencies in R code ... NOTE
Unexported object imported by a ':::' call: ‘stats:::format.perc’
  See the note in ?`:::` about the use of this operator.
* checking S3 generic/method consistency ... OK
* checking replacement functions ... OK
* checking foreign function calls ... OK
* checking R code for possible problems ... NOTE
AIC.glmPT: no visible global function definition for ‘logLik’
MAplot.tweeDE: no visible global function definition for ‘abline’
MAplot.tweeDE: no visible global function definition for ‘grey’
Vplot.tweeDE: no visible global function definition for ‘abline’
Vplot.tweeDE: no visible global function definition for ‘grey’
Vplot.tweeDE: no visible global function definition for ‘text’
anova.glmPT: no visible global function definition for ‘update’
anova.glmPT: no visible global function definition for ‘pchisq’
compareCountDist: no visible global function definition for ‘ecdf’
compareCountDist: no visible global function definition for ‘dnbinom’
compareCountDist: no visible global function definition for ‘dpois’
compareCountDist: no visible global function definition for ‘pchisq’
compareCountDist: no visible global function definition for ‘points’
compareCountDist: no visible global function definition for ‘lines’
compareCountDist: no visible global function definition for ‘legend’
confint.mlePT: no visible global function definition for ‘qnorm’
dPT: no visible global function definition for ‘dnbinom’
dPT: no visible global function definition for ‘dpois’
exactTestPT: no visible global function definition for ‘dpois’
glmPT: no visible global function definition for ‘model.response’
glmPT: no visible global function definition for ‘model.matrix’
glmPT: no visible binding for global variable ‘contrasts’
glmPT.fit: no visible global function definition for ‘optim’
loglikGlmPT: no visible global function definition for ‘dnbinom’
loglikGlmPT: no visible global function definition for ‘dpois’
loglikPoissonTweedie: no visible global function definition for
  ‘aggregate’
loglikPoissonTweedie: no visible global function definition for
  ‘dnbinom’
loglikPoissonTweedie: no visible global function definition for ‘dpois’
loglikPoissonTweedie2: no visible global function definition for
  ‘aggregate’
loglikPoissonTweedie2: no visible global function definition for
  ‘dnbinom’
loglikPoissonTweedie2: no visible global function definition for
  ‘dpois’
loglikPoissonTweedie3: no visible global function definition for
  ‘aggregate’
loglikPoissonTweedie3: no visible global function definition for
  ‘dnbinom’
loglikPoissonTweedie3: no visible global function definition for
  ‘dpois’
mlePoissonTweedie: no visible global function definition for
  ‘weighted.mean’
mlePoissonTweedie: no visible global function definition for ‘var’
mlePoissonTweedie: no visible global function definition for ‘optim’
momentEstimates: no visible global function definition for ‘var’
qqchisq: no visible global function definition for ‘qchisq’
qqchisq: no visible global function definition for ‘ppoints’
qqchisq: no visible global function definition for ‘qnorm’
qqchisq: no visible global function definition for ‘qqnorm’
qqchisq: no visible global function definition for ‘abline’
qqchisq: no visible global function definition for ‘quantile’
qqchisq: no visible global function definition for ‘grey’
qqchisq: no visible global function definition for ‘axis’
rPT: no visible global function definition for ‘runif’
shapeTrend: no visible global function definition for ‘lowess’
shapeTrend: no visible global function definition for ‘approxfun’
summary.glmPT: no visible global function definition for ‘pnorm’
summary.glmPT: no visible global function definition for ‘symnum’
testPoissonTweedie: no visible global function definition for ‘pnorm’
testShapePT: no visible global function definition for ‘dnbinom’
testShapePT: no visible global function definition for ‘pchisq’
testShapePT: no visible global function definition for ‘pnorm’
tweeDE : test.i: no visible global function definition for
  ‘setTxtProgressBar’
tweeDE : test.i: no visible global function definition for ‘aggregate’
tweeDE : test.i.mc: no visible global function definition for
  ‘setTxtProgressBar’
tweeDE : test.i.mc: no visible global function definition for
  ‘aggregate’
tweeDE: no visible global function definition for ‘txtProgressBar’
tweeDE: no visible global function definition for ‘setTxtProgressBar’
tweeDE: no visible global function definition for ‘p.adjust’
tweeDEglm: no visible global function definition for ‘model.matrix’
tweeDEglm: no visible binding for global variable ‘contrasts’
tweeDEglm : test.i: no visible global function definition for
  ‘setTxtProgressBar’
tweeDEglm : test.i: no visible global function definition for ‘AIC’
tweeDEglm: no visible global function definition for ‘txtProgressBar’
tweeDEglm: no visible global function definition for
  ‘setTxtProgressBar’
tweeDEglm: no visible global function definition for ‘p.adjust’
tweeDExact : test.i: no visible global function definition for
  ‘setTxtProgressBar’
tweeDExact : test.i.mc: no visible global function definition for
  ‘setTxtProgressBar’
tweeDExact: no visible global function definition for ‘txtProgressBar’
tweeDExact: no visible global function definition for
  ‘setTxtProgressBar’
tweeDExact: no visible global function definition for ‘p.adjust’
Undefined global functions or variables:
  AIC abline aggregate approxfun axis contrasts dnbinom dpois ecdf grey
  legend lines logLik lowess model.matrix model.response optim p.adjust
  pchisq pnorm points ppoints qchisq qnorm qqnorm quantile runif
  setTxtProgressBar symnum text txtProgressBar update var weighted.mean
Consider adding
  importFrom("grDevices", "grey")
  importFrom("graphics", "abline", "axis", "legend", "lines", "points",
             "text")
  importFrom("stats", "AIC", "aggregate", "approxfun", "contrasts",
             "dnbinom", "dpois", "ecdf", "logLik", "lowess",
             "model.matrix", "model.response", "optim", "p.adjust",
             "pchisq", "pnorm", "ppoints", "qchisq", "qnorm", "qqnorm",
             "quantile", "runif", "symnum", "update", "var",
             "weighted.mean")
  importFrom("utils", "setTxtProgressBar", "txtProgressBar")
to your NAMESPACE file.
* checking Rd files ... OK
* checking Rd metadata ... OK
* checking Rd cross-references ... OK
* checking for missing documentation entries ... OK
* checking for code/documentation mismatches ... OK
* checking Rd \usage sections ... OK
* checking Rd contents ... OK
* checking for unstated dependencies in examples ... OK
* checking contents of ‘data’ directory ... OK
* checking data for non-ASCII characters ... OK
* checking data for ASCII and uncompressed saves ... OK
* checking line endings in C/C++/Fortran sources/headers ... OK
* checking compiled code ... NOTE
Note: information on .o files is not available
* checking files in ‘vignettes’ ... OK
* checking examples ... OK
* checking for unstated dependencies in vignettes ... OK
* checking package vignettes in ‘inst/doc’ ... OK
* checking running R code from vignettes ... SKIPPED
* checking re-building of vignette outputs ... SKIPPED
* checking PDF version of manual ... OK
* DONE

Status: 3 NOTEs
See
  ‘/home/biocbuild/bbs-3.12-bioc/meat/tweeDEseq.Rcheck/00check.log’
for details.



Installation output

tweeDEseq.Rcheck/00install.out

##############################################################################
##############################################################################
###
### Running command:
###
###   /home/biocbuild/bbs-3.12-bioc/R/bin/R CMD INSTALL tweeDEseq
###
##############################################################################
##############################################################################


* installing to library ‘/home/biocbuild/bbs-3.12-bioc/R/library’
* installing *source* package ‘tweeDEseq’ ...
** using staged installation
** libs
gcc -I"/home/biocbuild/bbs-3.12-bioc/R/include" -DNDEBUG   -I/usr/local/include   -fpic  -g -O2  -Wall -c cov_wt_C.c -o cov_wt_C.o
cov_wt_C.c: In function ‘cov_wt_C’:
cov_wt_C.c:79:14: warning: ‘wvar’ may be used uninitialized in this function [-Wmaybe-uninitialized]
   79 |   free(aux), free(wvar), free(y);
      |              ^~~~~~~~~~
cov_wt_C.c: In function ‘momentEstimates_wt_C’:
cov_wt_C.c:154:12: warning: ‘moments’ may be used uninitialized in this function [-Wmaybe-uninitialized]
  154 |   free(y), free(moments), free(aux);
      |            ^~~~~~~~~~~~~
gcc -I"/home/biocbuild/bbs-3.12-bioc/R/include" -DNDEBUG   -I/usr/local/include   -fpic  -g -O2  -Wall -c init_tweeDEseq.c -o init_tweeDEseq.o
gcc -I"/home/biocbuild/bbs-3.12-bioc/R/include" -DNDEBUG   -I/usr/local/include   -fpic  -g -O2  -Wall -c loglikGlm.c -o loglikGlm.o
gcc -I"/home/biocbuild/bbs-3.12-bioc/R/include" -DNDEBUG   -I/usr/local/include   -fpic  -g -O2  -Wall -c logprobs.c -o logprobs.o
gcc -I"/home/biocbuild/bbs-3.12-bioc/R/include" -DNDEBUG   -I/usr/local/include   -fpic  -g -O2  -Wall -c permtest.c -o permtest.o
gcc -I"/home/biocbuild/bbs-3.12-bioc/R/include" -DNDEBUG   -I/usr/local/include   -fpic  -g -O2  -Wall -c probs.c -o probs.o
gcc -I"/home/biocbuild/bbs-3.12-bioc/R/include" -DNDEBUG   -I/usr/local/include   -fpic  -g -O2  -Wall -c zhu2.c -o zhu2.o
gcc -I"/home/biocbuild/bbs-3.12-bioc/R/include" -DNDEBUG   -I/usr/local/include   -fpic  -g -O2  -Wall -c zhu3.c -o zhu3.o
gcc -shared -L/home/biocbuild/bbs-3.12-bioc/R/lib -L/usr/local/lib -o tweeDEseq.so cov_wt_C.o init_tweeDEseq.o loglikGlm.o logprobs.o permtest.o probs.o zhu2.o zhu3.o -L/home/biocbuild/bbs-3.12-bioc/R/lib -lR
installing to /home/biocbuild/bbs-3.12-bioc/R/library/00LOCK-tweeDEseq/00new/tweeDEseq/libs
** R
** data
** inst
** byte-compile and prepare package for lazy loading
** help
*** installing help indices
** building package indices
** installing vignettes
** testing if installed package can be loaded from temporary location
** checking absolute paths in shared objects and dynamic libraries
** testing if installed package can be loaded from final location
** testing if installed package keeps a record of temporary installation path
* DONE (tweeDEseq)

Tests output


Example timings

tweeDEseq.Rcheck/tweeDEseq-Ex.timings

nameusersystemelapsed
compareCountDistributions0.1310.0000.130
distPoissonTweedie0.0000.0030.003
filterCounts0.0060.0000.006
glmPT2.5140.1042.617
gofTest0.4680.0010.469
mlePoissonTweedie0.0710.0020.074
normalizeCounts0.0590.0040.063
print.mlePT0.0650.0000.065
qqchisq0.4460.0000.446
seizure0.180.000.18
testShapePT0.10.00.1
tweeDE0.7680.0040.772
tweeDExact0.7190.0080.729