Back to Multiple platform build/check report for BioC 3.18: simplified long |
|
This page was generated on 2024-03-29 11:37:26 -0400 (Fri, 29 Mar 2024).
Hostname | OS | Arch (*) | R version | Installed pkgs |
---|---|---|---|---|
nebbiolo2 | Linux (Ubuntu 22.04.3 LTS) | x86_64 | 4.3.3 (2024-02-29) -- "Angel Food Cake" | 4669 |
palomino4 | Windows Server 2022 Datacenter | x64 | 4.3.3 (2024-02-29 ucrt) -- "Angel Food Cake" | 4404 |
merida1 | macOS 12.7.1 Monterey | x86_64 | 4.3.3 (2024-02-29) -- "Angel Food Cake" | 4427 |
Click on any hostname to see more info about the system (e.g. compilers) (*) as reported by 'uname -p', except on Windows and Mac OS X |
Package 2190/2266 | Hostname | OS / Arch | INSTALL | BUILD | CHECK | BUILD BIN | ||||||||
ttgsea 1.10.0 (landing page) Dongmin Jung
| nebbiolo2 | Linux (Ubuntu 22.04.3 LTS) / x86_64 | OK | OK | OK | |||||||||
palomino4 | Windows Server 2022 Datacenter / x64 | OK | OK | OK | OK | |||||||||
merida1 | macOS 12.7.1 Monterey / x86_64 | OK | OK | OK | OK | |||||||||
kjohnson1 | macOS 13.6.1 Ventura / arm64 | see weekly results here | ||||||||||||
To the developers/maintainers of the ttgsea package: - Allow up to 24 hours (and sometimes 48 hours) for your latest push to git@git.bioconductor.org:packages/ttgsea.git to reflect on this report. See Troubleshooting Build Report for more information. - Use the following Renviron settings to reproduce errors and warnings. - If 'R CMD check' started to fail recently on the Linux builder(s) over a missing dependency, add the missing dependency to 'Suggests:' in your DESCRIPTION file. See Renviron.bioc for more information. |
Package: ttgsea |
Version: 1.10.0 |
Command: F:\biocbuild\bbs-3.18-bioc\R\bin\R.exe CMD check --no-multiarch --install=check:ttgsea.install-out.txt --library=F:\biocbuild\bbs-3.18-bioc\R\library --no-vignettes --timings ttgsea_1.10.0.tar.gz |
StartedAt: 2024-03-28 06:05:20 -0400 (Thu, 28 Mar 2024) |
EndedAt: 2024-03-28 06:09:07 -0400 (Thu, 28 Mar 2024) |
EllapsedTime: 227.3 seconds |
RetCode: 0 |
Status: OK |
CheckDir: ttgsea.Rcheck |
Warnings: 0 |
############################################################################## ############################################################################## ### ### Running command: ### ### F:\biocbuild\bbs-3.18-bioc\R\bin\R.exe CMD check --no-multiarch --install=check:ttgsea.install-out.txt --library=F:\biocbuild\bbs-3.18-bioc\R\library --no-vignettes --timings ttgsea_1.10.0.tar.gz ### ############################################################################## ############################################################################## * using log directory 'F:/biocbuild/bbs-3.18-bioc/meat/ttgsea.Rcheck' * using R version 4.3.3 (2024-02-29 ucrt) * using platform: x86_64-w64-mingw32 (64-bit) * R was compiled by gcc.exe (GCC) 12.3.0 GNU Fortran (GCC) 12.3.0 * running under: Windows Server 2022 x64 (build 20348) * using session charset: UTF-8 * using option '--no-vignettes' * checking for file 'ttgsea/DESCRIPTION' ... OK * checking extension type ... Package * this is package 'ttgsea' version '1.10.0' * checking package namespace information ... OK * checking package dependencies ... OK * checking if this is a source package ... OK * checking if there is a namespace ... OK * checking for hidden files and directories ... OK * checking for portable file names ... OK * checking whether package 'ttgsea' can be installed ... OK * checking installed package size ... OK * checking package directory ... OK * checking 'build' directory ... OK * checking DESCRIPTION meta-information ... OK * checking top-level files ... OK * checking for left-over files ... OK * checking index information ... OK * checking package subdirectories ... OK * checking R files for non-ASCII characters ... OK * checking R files for syntax errors ... OK * checking whether the package can be loaded ... OK * checking whether the package can be loaded with stated dependencies ... OK * checking whether the package can be unloaded cleanly ... OK * checking whether the namespace can be loaded with stated dependencies ... OK * checking whether the namespace can be unloaded cleanly ... OK * checking dependencies in R code ... OK * checking S3 generic/method consistency ... OK * checking replacement functions ... OK * checking foreign function calls ... OK * checking R code for possible problems ... OK * checking Rd files ... OK * checking Rd metadata ... OK * checking Rd cross-references ... OK * checking for missing documentation entries ... OK * checking for code/documentation mismatches ... OK * checking Rd \usage sections ... OK * checking Rd contents ... OK * checking for unstated dependencies in examples ... OK * checking files in 'vignettes' ... OK * checking examples ... OK Examples with CPU (user + system) or elapsed time > 5s user system elapsed fit_model 17.25 0.91 26.39 predict_model 15.67 0.69 24.05 bi_gru 5.06 2.93 38.64 token_vector 2.21 0.03 15.64 text_token 1.94 0.06 14.68 * checking for unstated dependencies in 'tests' ... OK * checking tests ... Running 'testthat.R' OK * checking for unstated dependencies in vignettes ... OK * checking package vignettes in 'inst/doc' ... OK * checking running R code from vignettes ... SKIPPED * checking re-building of vignette outputs ... SKIPPED * checking PDF version of manual ... OK * DONE Status: OK
ttgsea.Rcheck/00install.out
############################################################################## ############################################################################## ### ### Running command: ### ### F:\biocbuild\bbs-3.18-bioc\R\bin\R.exe CMD INSTALL ttgsea ### ############################################################################## ############################################################################## * installing to library 'F:/biocbuild/bbs-3.18-bioc/R/library' * installing *source* package 'ttgsea' ... ** using staged installation ** R ** byte-compile and prepare package for lazy loading ** help *** installing help indices ** building package indices ** installing vignettes ** testing if installed package can be loaded from temporary location ** testing if installed package can be loaded from final location ** testing if installed package keeps a record of temporary installation path * DONE (ttgsea)
ttgsea.Rcheck/tests/testthat.Rout
R version 4.3.3 (2024-02-29 ucrt) -- "Angel Food Cake" Copyright (C) 2024 The R Foundation for Statistical Computing Platform: x86_64-w64-mingw32/x64 (64-bit) R is free software and comes with ABSOLUTELY NO WARRANTY. You are welcome to redistribute it under certain conditions. Type 'license()' or 'licence()' for distribution details. R is a collaborative project with many contributors. Type 'contributors()' for more information and 'citation()' on how to cite R or R packages in publications. Type 'demo()' for some demos, 'help()' for on-line help, or 'help.start()' for an HTML browser interface to help. Type 'q()' to quit R. > library(testthat) > library(ttgsea) Loading required package: keras > > test_check("ttgsea") 2024-03-28 06:08:47.028660: I tensorflow/core/platform/cpu_feature_guard.cc:182] This TensorFlow binary is optimized to use available CPU instructions in performance-critical operations. To enable the following instructions: SSE SSE2 SSE3 SSE4.1 SSE4.2 AVX AVX2 AVX512F FMA, in other operations, rebuild TensorFlow with the appropriate compiler flags. 1/45 [..............................] - ETA: 3:42 - loss: 1.6279 - pearson_correlation: -0.4238 5/45 [==>...........................] - ETA: 0s - loss: 1.5751 - pearson_correlation: -0.0566 8/45 [====>.........................] - ETA: 0s - loss: 1.4887 - pearson_correlation: -0.0514 10/45 [=====>........................] - ETA: 0s - loss: 1.5156 - pearson_correlation: -0.0252 13/45 [=======>......................] - ETA: 0s - loss: 1.5154 - pearson_correlation: -0.0221 16/45 [=========>....................] - ETA: 0s - loss: 1.5418 - pearson_correlation: 0.0240 18/45 [===========>..................] - ETA: 0s - loss: 1.5314 - pearson_correlation: 0.0475 21/45 [=============>................] - ETA: 0s - loss: 1.5114 - pearson_correlation: 0.0350 24/45 [===============>..............] - ETA: 0s - loss: 1.4998 - pearson_correlation: 0.0391 27/45 [=================>............] - ETA: 0s - loss: 1.5244 - pearson_correlation: 0.0672 30/45 [===================>..........] - ETA: 0s - loss: 1.5470 - pearson_correlation: 0.0629 33/45 [=====================>........] - ETA: 0s - loss: 1.5471 - pearson_correlation: 0.0481 36/45 [=======================>......] - ETA: 0s - loss: 1.5501 - pearson_correlation: 0.0528 40/45 [=========================>....] - ETA: 0s - loss: 1.5568 - pearson_correlation: 0.0678 43/45 [===========================>..] - ETA: 0s - loss: 1.5619 - pearson_correlation: 0.0773 45/45 [==============================] - ETA: 0s - loss: 1.5612 - pearson_correlation: 0.0777 45/45 [==============================] - 6s 25ms/step - loss: 1.5612 - pearson_correlation: 0.0777 1/4 [======>.......................] - ETA: 1s 4/4 [==============================] - 1s 5ms/step 1/1 [==============================] - ETA: 0s 1/1 [==============================] - 0s 31ms/step 1/32 [..............................] - ETA: 0s 10/32 [========>.....................] - ETA: 0s 20/32 [=================>............] - ETA: 0s 31/32 [============================>.] - ETA: 0s 32/32 [==============================] - 0s 6ms/step 1/32 [..............................] - ETA: 0s 12/32 [==========>...................] - ETA: 0s 22/32 [===================>..........] - ETA: 0s 32/32 [==============================] - ETA: 0s 32/32 [==============================] - 0s 6ms/step 1/1 [==============================] - ETA: 0s 1/1 [==============================] - 0s 31ms/step 1/32 [..............................] - ETA: 0s 9/32 [=======>......................] - ETA: 0s 20/32 [=================>............] - ETA: 0s 31/32 [============================>.] - ETA: 0s 32/32 [==============================] - 0s 6ms/step 1/32 [..............................] - ETA: 0s 11/32 [=========>....................] - ETA: 0s 21/32 [==================>...........] - ETA: 0s 32/32 [==============================] - ETA: 0s 32/32 [==============================] - 0s 6ms/step 1/32 [..............................] - ETA: 0s 11/32 [=========>....................] - ETA: 0s 21/32 [==================>...........] - ETA: 0s 32/32 [==============================] - ETA: 0s 32/32 [==============================] - 0s 6ms/step 1/32 [..............................] - ETA: 0s 9/32 [=======>......................] - ETA: 0s 19/32 [================>.............] - ETA: 0s 28/32 [=========================>....] - ETA: 0s 32/32 [==============================] - 0s 7ms/step [ FAIL 0 | WARN 0 | SKIP 0 | PASS 13 ] > > proc.time() user system elapsed 28.21 3.73 31.39
ttgsea.Rcheck/ttgsea-Ex.timings
name | user | system | elapsed | |
bi_gru | 5.06 | 2.93 | 38.64 | |
bi_lstm | 0.31 | 0.01 | 0.31 | |
fit_model | 17.25 | 0.91 | 26.39 | |
metric_pearson_correlation | 0.01 | 0.00 | 0.02 | |
plot_model | 0.24 | 0.06 | 1.11 | |
predict_model | 15.67 | 0.69 | 24.05 | |
sampling_generator | 0 | 0 | 0 | |
text_token | 1.94 | 0.06 | 14.68 | |
token_vector | 2.21 | 0.03 | 15.64 | |