Index of /checkResults/release/bioc-LATEST/ttgsea/raw-results
Name
Last modified
Size
Description
Parent Directory
-
info.dcf
10-Dec-2023 01:38
267
kunpeng2/
03-Nov-2023 00:41
-
lconway/
10-Dec-2023 01:38
-
nebbiolo2/
10-Dec-2023 01:36
-
palomino4/
10-Dec-2023 01:37
-