Back to Multiple platform build/check report for BioC 3.19:   simplified   long
ABCDEFGHIJKLMNOPQRS[T]UVWXYZ

This page was generated on 2024-06-11 14:41 -0400 (Tue, 11 Jun 2024).

HostnameOSArch (*)R versionInstalled pkgs
nebbiolo1Linux (Ubuntu 22.04.3 LTS)x86_644.4.0 (2024-04-24) -- "Puppy Cup" 4757
palomino3Windows Server 2022 Datacenterx644.4.0 (2024-04-24 ucrt) -- "Puppy Cup" 4491
lconwaymacOS 12.7.1 Montereyx86_644.4.0 (2024-04-24) -- "Puppy Cup" 4522
kjohnson3macOS 13.6.5 Venturaarm644.4.0 (2024-04-24) -- "Puppy Cup" 4468
Click on any hostname to see more info about the system (e.g. compilers)      (*) as reported by 'uname -p', except on Windows and Mac OS X

Package 2193/2300HostnameOS / ArchINSTALLBUILDCHECKBUILD BIN
transformGamPoi 1.10.0  (landing page)
Constantin Ahlmann-Eltze
Snapshot Date: 2024-06-09 14:00 -0400 (Sun, 09 Jun 2024)
git_url: https://git.bioconductor.org/packages/transformGamPoi
git_branch: RELEASE_3_19
git_last_commit: d1872ad
git_last_commit_date: 2024-04-30 11:37:13 -0400 (Tue, 30 Apr 2024)
nebbiolo1Linux (Ubuntu 22.04.3 LTS) / x86_64  OK    OK    OK  UNNEEDED, same version is already published
palomino3Windows Server 2022 Datacenter / x64  OK    OK    OK    OK  UNNEEDED, same version is already published
lconwaymacOS 12.7.1 Monterey / x86_64  OK    OK    OK    OK  UNNEEDED, same version is already published
kjohnson3macOS 13.6.5 Ventura / arm64  OK    OK    OK    OK  UNNEEDED, same version is already published


BUILD BIN results for transformGamPoi on palomino3

To the developers/maintainers of the transformGamPoi package:
- Allow up to 24 hours (and sometimes 48 hours) for your latest push to git@git.bioconductor.org:packages/transformGamPoi.git to reflect on this report. See Troubleshooting Build Report for more information.
- Use the following Renviron settings to reproduce errors and warnings.
- If 'R CMD check' started to fail recently on the Linux builder(s) over a missing dependency, add the missing dependency to 'Suggests:' in your DESCRIPTION file. See Renviron.bioc for more information.

raw results


Summary

Package: transformGamPoi
Version: 1.10.0
Command: rm -rf transformGamPoi.buildbin-libdir && mkdir transformGamPoi.buildbin-libdir && F:\biocbuild\bbs-3.19-bioc\R\bin\R.exe CMD INSTALL --build --library=transformGamPoi.buildbin-libdir transformGamPoi_1.10.0.tar.gz
StartedAt: 2024-06-10 17:27:52 -0400 (Mon, 10 Jun 2024)
EndedAt: 2024-06-10 17:28:49 -0400 (Mon, 10 Jun 2024)
EllapsedTime: 57.0 seconds
RetCode: 0
Status:   OK  
PackageFile: transformGamPoi_1.10.0.zip
PackageFileSize: 774.6 KiB

Command output

##############################################################################
##############################################################################
###
### Running command:
###
###   rm -rf transformGamPoi.buildbin-libdir && mkdir transformGamPoi.buildbin-libdir && F:\biocbuild\bbs-3.19-bioc\R\bin\R.exe CMD INSTALL --build --library=transformGamPoi.buildbin-libdir transformGamPoi_1.10.0.tar.gz
###
##############################################################################
##############################################################################


* installing *source* package 'transformGamPoi' ...
** using staged installation
** libs
using C++ compiler: 'G__~1.EXE (GCC) 13.2.0'
g++ -std=gnu++17  -I"F:/biocbuild/bbs-3.19-bioc/R/include" -DNDEBUG  -I'F:/biocbuild/bbs-3.19-bioc/R/library/Rcpp/include'   -I"C:/rtools44/x86_64-w64-mingw32.static.posix/include"     -O2 -Wall  -mfpmath=sse -msse2 -mstackrealign  -c RcppExports.cpp -o RcppExports.o
g++ -std=gnu++17  -I"F:/biocbuild/bbs-3.19-bioc/R/include" -DNDEBUG  -I'F:/biocbuild/bbs-3.19-bioc/R/library/Rcpp/include'   -I"C:/rtools44/x86_64-w64-mingw32.static.posix/include"     -O2 -Wall  -mfpmath=sse -msse2 -mstackrealign  -c sparse_divide_out_size_factor.cpp -o sparse_divide_out_size_factor.o
g++ -std=gnu++17 -shared -s -static-libgcc -o transformGamPoi.dll tmp.def RcppExports.o sparse_divide_out_size_factor.o -LC:/rtools44/x86_64-w64-mingw32.static.posix/lib/x64 -LC:/rtools44/x86_64-w64-mingw32.static.posix/lib -LF:/biocbuild/bbs-3.19-bioc/R/bin/x64 -lR
installing to F:/biocbuild/bbs-3.19-bioc/meat/transformGamPoi.buildbin-libdir/00LOCK-transformGamPoi/00new/transformGamPoi/libs/x64
** R
** inst
** byte-compile and prepare package for lazy loading
** help
*** installing help indices
*** copying figures
** building package indices
** installing vignettes
** testing if installed package can be loaded from temporary location
** testing if installed package can be loaded from final location
** testing if installed package keeps a record of temporary installation path
* MD5 sums
packaged installation of 'transformGamPoi' as transformGamPoi_1.10.0.zip
* DONE (transformGamPoi)