Back to Multiple platform build/check report for BioC 3.16: simplified long |
|
This page was generated on 2023-02-03 11:07:08 -0500 (Fri, 03 Feb 2023).
Hostname | OS | Arch (*) | R version | Installed pkgs |
---|---|---|---|---|
nebbiolo2 | Linux (Ubuntu 20.04.5 LTS) | x86_64 | 4.2.2 (2022-10-31) -- "Innocent and Trusting" | 4511 |
palomino4 | Windows Server 2022 Datacenter | x64 | 4.2.2 (2022-10-31 ucrt) -- "Innocent and Trusting" | 4289 |
lconway | macOS 12.5.1 Monterey | x86_64 | 4.2.2 (2022-10-31) -- "Innocent and Trusting" | 4318 |
Click on any hostname to see more info about the system (e.g. compilers) (*) as reported by 'uname -p', except on Windows and Mac OS X |
To the developers/maintainers of the sparrow package: - Please allow up to 24 hours (and sometimes 48 hours) for your latest push to git@git.bioconductor.org:packages/sparrow.git to reflect on this report. See How and When does the builder pull? When will my changes propagate? for more information. - Make sure to use the following settings in order to reproduce any error or warning you see on this page. |
Package 1919/2183 | Hostname | OS / Arch | INSTALL | BUILD | CHECK | BUILD BIN | ||||||||
sparrow 1.4.0 (landing page) Steve Lianoglou
| nebbiolo2 | Linux (Ubuntu 20.04.5 LTS) / x86_64 | OK | OK | OK | ![]() | ||||||||
palomino4 | Windows Server 2022 Datacenter / x64 | OK | OK | OK | OK | ![]() | ||||||||
lconway | macOS 12.5.1 Monterey / x86_64 | OK | OK | OK | OK | ![]() | ||||||||
Package: sparrow |
Version: 1.4.0 |
Command: /Library/Frameworks/R.framework/Resources/bin/R CMD check --install=check:sparrow.install-out.txt --library=/Library/Frameworks/R.framework/Resources/library --no-vignettes --timings sparrow_1.4.0.tar.gz |
StartedAt: 2023-02-02 23:07:33 -0500 (Thu, 02 Feb 2023) |
EndedAt: 2023-02-02 23:16:36 -0500 (Thu, 02 Feb 2023) |
EllapsedTime: 543.0 seconds |
RetCode: 0 |
Status: OK |
CheckDir: sparrow.Rcheck |
Warnings: 0 |
############################################################################## ############################################################################## ### ### Running command: ### ### /Library/Frameworks/R.framework/Resources/bin/R CMD check --install=check:sparrow.install-out.txt --library=/Library/Frameworks/R.framework/Resources/library --no-vignettes --timings sparrow_1.4.0.tar.gz ### ############################################################################## ############################################################################## * using log directory ‘/Users/biocbuild/bbs-3.16-bioc/meat/sparrow.Rcheck’ * using R version 4.2.2 (2022-10-31) * using platform: x86_64-apple-darwin17.0 (64-bit) * using session charset: UTF-8 * using option ‘--no-vignettes’ * checking for file ‘sparrow/DESCRIPTION’ ... OK * checking extension type ... Package * this is package ‘sparrow’ version ‘1.4.0’ * package encoding: UTF-8 * checking package namespace information ... OK * checking package dependencies ... OK * checking if this is a source package ... OK * checking if there is a namespace ... OK * checking for hidden files and directories ... OK * checking for portable file names ... OK * checking for sufficient/correct file permissions ... OK * checking whether package ‘sparrow’ can be installed ... OK * checking installed package size ... OK * checking package directory ... OK * checking ‘build’ directory ... OK * checking DESCRIPTION meta-information ... OK * checking top-level files ... OK * checking for left-over files ... OK * checking index information ... OK * checking package subdirectories ... OK * checking R files for non-ASCII characters ... OK * checking R files for syntax errors ... OK * checking whether the package can be loaded ... OK * checking whether the package can be loaded with stated dependencies ... OK * checking whether the package can be unloaded cleanly ... OK * checking whether the namespace can be loaded with stated dependencies ... OK * checking whether the namespace can be unloaded cleanly ... OK * checking dependencies in R code ... OK * checking S3 generic/method consistency ... OK * checking replacement functions ... OK * checking foreign function calls ... OK * checking R code for possible problems ... NOTE geneSetsStats: no visible binding for global variable ‘direction’ Undefined global functions or variables: direction * checking Rd files ... OK * checking Rd metadata ... OK * checking Rd cross-references ... OK * checking for missing documentation entries ... OK * checking for code/documentation mismatches ... OK * checking Rd \usage sections ... OK * checking Rd contents ... OK * checking for unstated dependencies in examples ... OK * checking line endings in Makefiles ... OK * checking for GNU extensions in Makefiles ... OK * checking include directives in Makefiles ... OK * checking files in ‘vignettes’ ... OK * checking examples ... OK Examples with CPU (user + system) or elapsed time > 5s user system elapsed goseq 6.589 0.302 7.037 * checking for unstated dependencies in ‘tests’ ... OK * checking tests ... Running ‘testthat.R’ OK * checking for unstated dependencies in vignettes ... OK * checking package vignettes in ‘inst/doc’ ... OK * checking running R code from vignettes ... SKIPPED * checking re-building of vignette outputs ... SKIPPED * checking PDF version of manual ... OK * DONE Status: 1 NOTE See ‘/Users/biocbuild/bbs-3.16-bioc/meat/sparrow.Rcheck/00check.log’ for details.
sparrow.Rcheck/00install.out
############################################################################## ############################################################################## ### ### Running command: ### ### /Library/Frameworks/R.framework/Resources/bin/R CMD INSTALL sparrow ### ############################################################################## ############################################################################## * installing to library ‘/Library/Frameworks/R.framework/Versions/4.2/Resources/library’ * installing *source* package ‘sparrow’ ... ** using staged installation ** R ** inst ** byte-compile and prepare package for lazy loading ** help *** installing help indices *** copying figures ** building package indices ** installing vignettes ** testing if installed package can be loaded from temporary location ** testing if installed package can be loaded from final location ** testing if installed package keeps a record of temporary installation path * DONE (sparrow)
sparrow.Rcheck/tests/testthat.Rout
R version 4.2.2 (2022-10-31) -- "Innocent and Trusting" Copyright (C) 2022 The R Foundation for Statistical Computing Platform: x86_64-apple-darwin17.0 (64-bit) R is free software and comes with ABSOLUTELY NO WARRANTY. You are welcome to redistribute it under certain conditions. Type 'license()' or 'licence()' for distribution details. R is a collaborative project with many contributors. Type 'contributors()' for more information and 'citation()' on how to cite R or R packages in publications. Type 'demo()' for some demos, 'help()' for on-line help, or 'help.start()' for an HTML browser interface to help. Type 'q()' to quit R. > library("sparrow") > library("testthat") > library("data.table") > library("dplyr") Attaching package: 'dplyr' The following objects are masked from 'package:data.table': between, first, last The following object is masked from 'package:testthat': matches The following object is masked from 'package:sparrow': combine The following objects are masked from 'package:stats': filter, lag The following objects are masked from 'package:base': intersect, setdiff, setequal, union > > test_check("sparrow") Attaching package: 'magrittr' The following objects are masked from 'package:testthat': equals, is_less_than, not [1] "Calculating ranks..." [1] "Calculating absolute values from ranks..." [1] "Normalizing..." [1] "Calculating ranks..." [1] "Calculating absolute values from ranks..." [1] "Normalizing..." [1] "Calculating ranks..." [1] "Calculating absolute values from ranks..." [1] "Normalizing..." [1] "Calculating ranks..." [1] "Calculating absolute values from ranks..." [1] "Normalizing..." [1] "Calculating ranks..." [1] "Calculating absolute values from ranks..." [1] "Normalizing..." [1] "Calculating ranks..." [1] "Calculating absolute values from ranks..." [1] "Normalizing..." [1] "Calculating ranks..." [1] "Calculating absolute values from ranks..." [1] "Normalizing..." [ FAIL 0 | WARN 0 | SKIP 1 | PASS 1503 ] ══ Skipped tests ═══════════════════════════════════════════════════════════════ • empty test (1) [ FAIL 0 | WARN 0 | SKIP 1 | PASS 1503 ] > > ## Remove temporary files that were generated > test.dir <- system.file('tests', package = "sparrow") > pdfs <- dir(test.dir, "\\.pdf$", full.names=TRUE) > if (length(pdfs)) { + unlink(pdfs) + } > > > proc.time() user system elapsed 288.040 29.994 308.033
sparrow.Rcheck/sparrow-Ex.timings
name | user | system | elapsed | |
GeneSetDb-class | 0.087 | 0.012 | 0.107 | |
SparrowResult-utilities | 3.233 | 0.099 | 3.373 | |
addGeneSetMetadata | 0.624 | 0.008 | 0.633 | |
annotateGeneSetMembership | 3.065 | 0.166 | 3.266 | |
calculateIndividualLogFC | 1.689 | 0.066 | 1.770 | |
collectionMetadata | 0.053 | 0.001 | 0.054 | |
combine-GeneSetDb-GeneSetDb-method | 0.062 | 0.001 | 0.064 | |
combine-SparrowResult-SparrowResult-method | 0.140 | 0.008 | 0.151 | |
conform | 0.856 | 0.027 | 0.890 | |
conversion | 0.466 | 0.025 | 0.494 | |
convertIdentifiers | 0.129 | 0.005 | 0.134 | |
corplot | 0.069 | 0.004 | 0.073 | |
eigenWeightedMean | 1.520 | 0.066 | 1.594 | |
examples | 0.249 | 0.068 | 0.321 | |
failWith | 0.001 | 0.000 | 0.001 | |
featureIdMap | 0.411 | 0.027 | 0.441 | |
featureIds | 0.342 | 0.016 | 0.358 | |
geneSet | 0.073 | 0.002 | 0.076 | |
geneSetCollectionURLfunction | 0.071 | 0.007 | 0.079 | |
geneSetSummaryByGenes | 3.413 | 0.097 | 3.530 | |
geneSets | 0.049 | 0.002 | 0.051 | |
geneSetsStats | 3.697 | 0.124 | 3.835 | |
getKeggCollection | 0 | 0 | 0 | |
getMSigCollection | 0.001 | 0.000 | 0.000 | |
getPantherCollection | 0 | 0 | 0 | |
getReactomeCollection | 0 | 0 | 0 | |
goseq | 6.589 | 0.302 | 7.037 | |
gsdScore | 0.820 | 0.043 | 0.868 | |
gskey | 0.002 | 0.001 | 0.004 | |
hasGeneSet | 0.045 | 0.001 | 0.045 | |
hasGeneSetCollection | 0.077 | 0.005 | 0.082 | |
incidenceMatrix | 0.986 | 0.045 | 1.042 | |
iplot | 1.958 | 0.185 | 2.224 | |
is.active | 0.297 | 0.051 | 0.351 | |
logFC | 2.756 | 0.113 | 2.890 | |
mgheatmap | 0 | 0 | 0 | |
mgheatmap2 | 0 | 0 | 0 | |
msg | 0.001 | 0.001 | 0.001 | |
ora | 1.139 | 0.031 | 1.174 | |
p.matrix | 0.074 | 0.002 | 0.076 | |
randomGeneSetDb | 0.060 | 0.006 | 0.067 | |
renameCollections | 0.058 | 0.007 | 0.065 | |
renameRows | 0.292 | 0.012 | 0.304 | |
results | 0.084 | 0.004 | 0.088 | |
scale_rows | 0.005 | 0.001 | 0.005 | |
scoreSingleSamples | 3.019 | 0.417 | 3.488 | |
seas | 4.147 | 0.143 | 4.315 | |
sparrow_methods | 0.003 | 0.002 | 0.004 | |
species_info | 0.004 | 0.002 | 0.010 | |
subset.GeneSetDb | 0.101 | 0.018 | 0.121 | |
subsetByFeatures | 0.053 | 0.001 | 0.054 | |
validateInputs | 0.112 | 0.020 | 0.133 | |
volcanoPlot | 1.654 | 0.142 | 1.843 | |
volcanoStatsTable | 0.058 | 0.002 | 0.061 | |
zScore | 0.709 | 0.037 | 0.750 | |