Back to Multiple platform build/check report for BioC 3.19:   simplified   long
ABCDEFGHIJKLMNOPQR[S]TUVWXYZ

This page was generated on 2024-05-28 11:35:56 -0400 (Tue, 28 May 2024).

HostnameOSArch (*)R versionInstalled pkgs
nebbiolo1Linux (Ubuntu 22.04.3 LTS)x86_644.4.0 (2024-04-24) -- "Puppy Cup" 4752
lconwaymacOS 12.7.1 Montereyx86_644.4.0 (2024-04-24) -- "Puppy Cup" 4517
Click on any hostname to see more info about the system (e.g. compilers)      (*) as reported by 'uname -p', except on Windows and Mac OS X

Package 2024/2300HostnameOS / ArchINSTALLBUILDCHECKBUILD BIN
sparrow 1.10.1  (landing page)
Steve Lianoglou
Snapshot Date: 2024-05-27 14:00:08 -0400 (Mon, 27 May 2024)
git_url: https://git.bioconductor.org/packages/sparrow
git_branch: RELEASE_3_19
git_last_commit: d592783
git_last_commit_date: 2024-05-06 17:21:11 -0400 (Mon, 06 May 2024)
nebbiolo1Linux (Ubuntu 22.04.3 LTS) / x86_64  OK    OK    OK  UNNEEDED, same version is already published
lconwaymacOS 12.7.1 Monterey / x86_64  OK    OK    OK    OK  UNNEEDED, same version is already published
kjohnson3macOS 13.6.5 Ventura / arm64see weekly results here

BUILD results for sparrow on lconway


To the developers/maintainers of the sparrow package:
- Allow up to 24 hours (and sometimes 48 hours) for your latest push to git@git.bioconductor.org:packages/sparrow.git to reflect on this report. See Troubleshooting Build Report for more information.
- Use the following Renviron settings to reproduce errors and warnings.
- If 'R CMD check' started to fail recently on the Linux builder(s) over a missing dependency, add the missing dependency to 'Suggests:' in your DESCRIPTION file. See Renviron.bioc for more information.

raw results


Summary

Package: sparrow
Version: 1.10.1
Command: /Library/Frameworks/R.framework/Resources/bin/R CMD build --keep-empty-dirs --no-resave-data sparrow
StartedAt: 2024-05-27 18:36:28 -0400 (Mon, 27 May 2024)
EndedAt: 2024-05-27 18:39:49 -0400 (Mon, 27 May 2024)
EllapsedTime: 201.4 seconds
RetCode: 0
Status:   OK  
PackageFile: sparrow_1.10.1.tar.gz
PackageFileSize: 4.212 MiB

Command output

##############################################################################
##############################################################################
###
### Running command:
###
###   /Library/Frameworks/R.framework/Resources/bin/R CMD build --keep-empty-dirs --no-resave-data sparrow
###
##############################################################################
##############################################################################


* checking for file ‘sparrow/DESCRIPTION’ ... OK
* preparing ‘sparrow’:
* checking DESCRIPTION meta-information ... OK
* installing the package to build vignettes
* creating vignettes ... OK
* checking for LF line-endings in source and make files and shell scripts
* checking for empty or unneeded directories
Omitted ‘LazyData’ from DESCRIPTION
* building ‘sparrow_1.10.1.tar.gz’