Back to Multiple platform build/check report for BioC 3.18:   simplified   long
ABCDEFGHIJKLMNOPQR[S]TUVWXYZ

This page was generated on 2024-02-20 11:38:21 -0500 (Tue, 20 Feb 2024).

HostnameOSArch (*)R versionInstalled pkgs
nebbiolo2Linux (Ubuntu 22.04.3 LTS)x86_644.3.2 Patched (2023-11-13 r85521) -- "Eye Holes" 4690
palomino4Windows Server 2022 Datacenterx644.3.2 (2023-10-31 ucrt) -- "Eye Holes" 4443
lconwaymacOS 12.7.1 Montereyx86_644.3.2 Patched (2023-11-01 r85457) -- "Eye Holes" 4464
Click on any hostname to see more info about the system (e.g. compilers)      (*) as reported by 'uname -p', except on Windows and Mac OS X

Package 1952/2266HostnameOS / ArchINSTALLBUILDCHECKBUILD BIN
signeR 2.4.0  (landing page)
Renan Valieris
Snapshot Date: 2024-02-19 14:05:07 -0500 (Mon, 19 Feb 2024)
git_url: https://git.bioconductor.org/packages/signeR
git_branch: RELEASE_3_18
git_last_commit: 5464986
git_last_commit_date: 2023-10-24 10:52:34 -0500 (Tue, 24 Oct 2023)
nebbiolo2Linux (Ubuntu 22.04.3 LTS) / x86_64  OK    OK    OK  UNNEEDED, same version is already published
palomino4Windows Server 2022 Datacenter / x64  OK    OK    OK    OK  UNNEEDED, same version is already published
lconwaymacOS 12.7.1 Monterey / x86_64  OK    OK    OK    OK  UNNEEDED, same version is already published
kjohnson1macOS 13.6.1 Ventura / arm64see weekly results here

CHECK results for signeR on lconway


To the developers/maintainers of the signeR package:
- Allow up to 24 hours (and sometimes 48 hours) for your latest push to git@git.bioconductor.org:packages/signeR.git to reflect on this report. See Troubleshooting Build Report for more information.
- Use the following Renviron settings to reproduce errors and warnings.
- If 'R CMD check' started to fail recently on the Linux builder(s) over a missing dependency, add the missing dependency to 'Suggests:' in your DESCRIPTION file. See Renviron.bioc for more information.

raw results


Summary

Package: signeR
Version: 2.4.0
Command: /Library/Frameworks/R.framework/Resources/bin/R CMD check --install=check:signeR.install-out.txt --library=/Library/Frameworks/R.framework/Resources/library --no-vignettes --timings signeR_2.4.0.tar.gz
StartedAt: 2024-02-19 23:11:57 -0500 (Mon, 19 Feb 2024)
EndedAt: 2024-02-19 23:19:58 -0500 (Mon, 19 Feb 2024)
EllapsedTime: 481.3 seconds
RetCode: 0
Status:   OK  
CheckDir: signeR.Rcheck
Warnings: 0

Command output

##############################################################################
##############################################################################
###
### Running command:
###
###   /Library/Frameworks/R.framework/Resources/bin/R CMD check --install=check:signeR.install-out.txt --library=/Library/Frameworks/R.framework/Resources/library --no-vignettes --timings signeR_2.4.0.tar.gz
###
##############################################################################
##############################################################################


* using log directory ‘/Users/biocbuild/bbs-3.18-bioc/meat/signeR.Rcheck’
* using R version 4.3.2 Patched (2023-11-01 r85457)
* using platform: x86_64-apple-darwin20 (64-bit)
* R was compiled by
    Apple clang version 14.0.3 (clang-1403.0.22.14.1)
    GNU Fortran (GCC) 12.2.0
* running under: macOS Monterey 12.7.1
* using session charset: UTF-8
* using option ‘--no-vignettes’
* checking for file ‘signeR/DESCRIPTION’ ... OK
* checking extension type ... Package
* this is package ‘signeR’ version ‘2.4.0’
* package encoding: UTF-8
* checking package namespace information ... OK
* checking package dependencies ... OK
* checking if this is a source package ... OK
* checking if there is a namespace ... OK
* checking for hidden files and directories ... OK
* checking for portable file names ... OK
* checking for sufficient/correct file permissions ... OK
* checking whether package ‘signeR’ can be installed ... OK
* used C compiler: ‘Apple clang version 14.0.0 (clang-1400.0.29.202)’
* used C++ compiler: ‘Apple clang version 14.0.0 (clang-1400.0.29.202)’
* used SDK: ‘MacOSX11.3.sdk’
* checking C++ specification ... NOTE
  Specified C++11: please drop specification unless essential
* checking installed package size ... OK
* checking package directory ... OK
* checking ‘build’ directory ... OK
* checking DESCRIPTION meta-information ... OK
* checking top-level files ... OK
* checking for left-over files ... OK
* checking index information ... OK
* checking package subdirectories ... OK
* checking R files for non-ASCII characters ... OK
* checking R files for syntax errors ... OK
* checking whether the package can be loaded ... OK
* checking whether the package can be loaded with stated dependencies ... OK
* checking whether the package can be unloaded cleanly ... OK
* checking whether the namespace can be loaded with stated dependencies ... OK
* checking whether the namespace can be unloaded cleanly ... OK
* checking startup messages can be suppressed ... OK
* checking dependencies in R code ... OK
* checking S3 generic/method consistency ... OK
* checking replacement functions ... OK
* checking foreign function calls ... OK
* checking R code for possible problems ... NOTE
covariate: no visible binding for global variable ‘.’
explorepage: no visible binding for global variable ‘.’
genCountMatrixFromMAF: no visible binding for global variable
  ‘Variant_Type’
genCountMatrixFromMAF: no visible binding for global variable
  ‘Reference_Allele’
genCountMatrixFromMAF: no visible binding for global variable
  ‘Tumor_Seq_Allele2’
genCountMatrixFromMAF: no visible binding for global variable
  ‘Tumor_Seq_Allele1’
genCountMatrixFromVcf: no visible global function definition for
  ‘alt<-’
signeRFlow : server : loadSig: no visible binding for global variable
  ‘sig’
signeRFlow : server : loadSig: no visible binding for global variable
  ‘sig_test’
tcgaexplorer : get_similarities_tcga: no visible binding for global
  variable ‘project’
tcgaexplorer: no visible binding for global variable ‘.’
DiffExp,SignExp-character: no visible binding for global variable ‘fc’
ExposureBarplot,SignExp: no visible binding for global variable
  ‘Samples’
ExposureBarplot,SignExp: no visible binding for global variable
  ‘Signatures’
ExposureBoxplot,SignExp: no visible binding for global variable
  ‘Signatures’
ExposureBoxplot,SignExp: no visible binding for global variable
  ‘Samples’
ExposureClassify,ANY-character: no visible binding for global variable
  ‘Col’
ExposureClassify,ANY-character: no visible binding for global variable
  ‘Frequency’
ExposureClassify,ANY-character: no visible binding for global variable
  ‘Row’
ExposureClassifyCV,ANY-character: no visible binding for global
  variable ‘Col’
ExposureClassifyCV,ANY-character: no visible binding for global
  variable ‘Frequency’
ExposureClassifyCV,ANY-character: no visible binding for global
  variable ‘Row’
ExposureCorrelation,SignExp-numeric: no visible binding for global
  variable ‘Feature’
ExposureCorrelation,SignExp-numeric: no visible binding for global
  variable ‘exposure’
ExposureCorrelation,matrix-numeric: no visible binding for global
  variable ‘Feature’
ExposureCorrelation,matrix-numeric: no visible binding for global
  variable ‘exposure’
Undefined global functions or variables:
  . Col Feature Frequency Reference_Allele Row Samples Signatures
  Tumor_Seq_Allele1 Tumor_Seq_Allele2 Variant_Type alt<- exposure fc
  project sig sig_test
* checking Rd files ... NOTE
prepare_Rd: cosmic_data.Rd:91-93: Dropping empty section \details
prepare_Rd: cosmic_data.Rd:98-100: Dropping empty section \references
prepare_Rd: cosmic_data.Rd:101-102: Dropping empty section \examples
prepare_Rd: tcga_similarities.Rd:96-98: Dropping empty section \details
prepare_Rd: tcga_similarities.Rd:99-101: Dropping empty section \source
prepare_Rd: tcga_similarities.Rd:102-104: Dropping empty section \references
prepare_Rd: tcga_similarities.Rd:105-106: Dropping empty section \examples
prepare_Rd: tcga_tumors.Rd:18-20: Dropping empty section \details
prepare_Rd: tcga_tumors.Rd:21-23: Dropping empty section \source
prepare_Rd: tcga_tumors.Rd:24-26: Dropping empty section \references
prepare_Rd: tcga_tumors.Rd:27-28: Dropping empty section \examples
* checking Rd metadata ... OK
* checking Rd cross-references ... OK
* checking for missing documentation entries ... OK
* checking for code/documentation mismatches ... OK
* checking Rd \usage sections ... OK
* checking Rd contents ... OK
* checking for unstated dependencies in examples ... OK
* checking contents of ‘data’ directory ... OK
* checking data for non-ASCII characters ... OK
* checking LazyData ... OK
* checking data for ASCII and uncompressed saves ... OK
* checking R/sysdata.rda ... OK
* checking line endings in C/C++/Fortran sources/headers ... OK
* checking line endings in Makefiles ... OK
* checking compilation flags in Makevars ... OK
* checking for GNU extensions in Makefiles ... OK
* checking for portable use of $(BLAS_LIBS) and $(LAPACK_LIBS) ... OK
* checking use of PKG_*FLAGS in Makefiles ... OK
* checking compiled code ... NOTE
Note: information on .o files is not available
* checking files in ‘vignettes’ ... OK
* checking examples ... OK
Examples with CPU (user + system) or elapsed time > 5s
                         user system elapsed
ExposureClassifyCV      6.127  0.089   6.274
ExposureFuzzyClustering 5.825  0.138   6.028
* checking for unstated dependencies in vignettes ... OK
* checking package vignettes in ‘inst/doc’ ... OK
* checking running R code from vignettes ... SKIPPED
* checking re-building of vignette outputs ... SKIPPED
* checking PDF version of manual ... OK
* DONE

Status: 4 NOTEs
See
  ‘/Users/biocbuild/bbs-3.18-bioc/meat/signeR.Rcheck/00check.log’
for details.



Installation output

signeR.Rcheck/00install.out

##############################################################################
##############################################################################
###
### Running command:
###
###   /Library/Frameworks/R.framework/Resources/bin/R CMD INSTALL signeR
###
##############################################################################
##############################################################################


* installing to library ‘/Library/Frameworks/R.framework/Versions/4.3-x86_64/Resources/library’
* installing *source* package ‘signeR’ ...
** using staged installation
** libs
using C compiler: ‘Apple clang version 14.0.0 (clang-1400.0.29.202)’
using C++ compiler: ‘Apple clang version 14.0.0 (clang-1400.0.29.202)’
using C++11
using SDK: ‘MacOSX11.3.sdk’
clang++ -arch x86_64 -std=gnu++11 -I"/Library/Frameworks/R.framework/Resources/include" -DNDEBUG  -I'/Library/Frameworks/R.framework/Versions/4.3-x86_64/Resources/library/Rcpp/include' -I'/Library/Frameworks/R.framework/Versions/4.3-x86_64/Resources/library/RcppArmadillo/include' -I/opt/R/x86_64/include    -fPIC  -falign-functions=64 -Wall -g -O2  -c RcppExports.cpp -o RcppExports.o
clang++ -arch x86_64 -std=gnu++11 -I"/Library/Frameworks/R.framework/Resources/include" -DNDEBUG  -I'/Library/Frameworks/R.framework/Versions/4.3-x86_64/Resources/library/Rcpp/include' -I'/Library/Frameworks/R.framework/Versions/4.3-x86_64/Resources/library/RcppArmadillo/include' -I/opt/R/x86_64/include    -fPIC  -falign-functions=64 -Wall -g -O2  -c fuzzy.cpp -o fuzzy.o
clang++ -arch x86_64 -std=gnu++11 -I"/Library/Frameworks/R.framework/Resources/include" -DNDEBUG  -I'/Library/Frameworks/R.framework/Versions/4.3-x86_64/Resources/library/Rcpp/include' -I'/Library/Frameworks/R.framework/Versions/4.3-x86_64/Resources/library/RcppArmadillo/include' -I/opt/R/x86_64/include    -fPIC  -falign-functions=64 -Wall -g -O2  -c gibbs_2.cpp -o gibbs_2.o
clang -arch x86_64 -I"/Library/Frameworks/R.framework/Resources/include" -DNDEBUG  -I'/Library/Frameworks/R.framework/Versions/4.3-x86_64/Resources/library/Rcpp/include' -I'/Library/Frameworks/R.framework/Versions/4.3-x86_64/Resources/library/RcppArmadillo/include' -I/opt/R/x86_64/include    -fPIC  -falign-functions=64 -Wall -g -O2  -c signeR_init.c -o signeR_init.o
clang++ -arch x86_64 -std=gnu++11 -dynamiclib -Wl,-headerpad_max_install_names -undefined dynamic_lookup -L/Library/Frameworks/R.framework/Resources/lib -L/opt/R/x86_64/lib -o signeR.so RcppExports.o fuzzy.o gibbs_2.o signeR_init.o -Wl,-S -L/Library/Frameworks/R.framework/Resources/lib -lRlapack -L/Library/Frameworks/R.framework/Resources/lib -lRblas -L/opt/gfortran/lib/gcc/x86_64-apple-darwin20.0/12.2.0 -L/opt/gfortran/lib -lgfortran -lquadmath -F/Library/Frameworks/R.framework/.. -framework R -Wl,-framework -Wl,CoreFoundation
installing to /Library/Frameworks/R.framework/Versions/4.3-x86_64/Resources/library/00LOCK-signeR/00new/signeR/libs
** R
** data
*** moving datasets to lazyload DB
** inst
** byte-compile and prepare package for lazy loading
** help
*** installing help indices
** building package indices
** installing vignettes
** testing if installed package can be loaded from temporary location
** checking absolute paths in shared objects and dynamic libraries
** testing if installed package can be loaded from final location
** testing if installed package keeps a record of temporary installation path
* DONE (signeR)

Tests output


Example timings

signeR.Rcheck/signeR-Ex.timings

nameusersystemelapsed
Diffexp3.5640.0703.672
ExposureClassify4.2410.0634.338
ExposureClassifyCV6.1270.0896.274
ExposureCorrelation2.1000.0362.156
ExposureFuzzyClustering5.8250.1386.028
ExposureGLM1.7460.0201.777
ExposureHierarchicalClustering1.6010.0431.659
ExposureSurvModel4.0190.1234.175
ExposureSurvival1.9480.0522.019
genMatrix2.7750.2322.943
methods2.7950.0242.840
plots2.2540.0452.320
signeR-package0.0010.0010.002
signeR0.0010.0010.003