Back to Multiple platform build/check report for BioC 3.15 |
|
This page was generated on 2022-06-24 12:06:47 -0400 (Fri, 24 Jun 2022).
Hostname | OS | Arch (*) | R version | Installed pkgs |
---|---|---|---|---|
nebbiolo1 | Linux (Ubuntu 20.04.4 LTS) | x86_64 | 4.2.0 (2022-04-22) -- "Vigorous Calisthenics" | 4380 |
palomino3 | Windows Server 2022 Datacenter | x64 | 4.2.0 (2022-04-22 ucrt) -- "Vigorous Calisthenics" | 4156 |
merida1 | macOS 10.14.6 Mojave | x86_64 | 4.2.0 (2022-04-22) -- "Vigorous Calisthenics" | 4221 |
Click on any hostname to see more info about the system (e.g. compilers) (*) as reported by 'uname -p', except on Windows and Mac OS X |
To the developers/maintainers of the shinyMethyl package: - Please allow up to 24 hours (and sometimes 48 hours) for your latest push to git@git.bioconductor.org:packages/shinyMethyl.git to reflect on this report. See How and When does the builder pull? When will my changes propagate? for more information. - Make sure to use the following settings in order to reproduce any error or warning you see on this page. |
Package 1830/2140 | Hostname | OS / Arch | INSTALL | BUILD | CHECK | BUILD BIN | ||||||||
shinyMethyl 1.32.0 (landing page) Jean-Philippe Fortin
| nebbiolo1 | Linux (Ubuntu 20.04.4 LTS) / x86_64 | OK | OK | OK | ![]() | ||||||||
palomino3 | Windows Server 2022 Datacenter / x64 | OK | OK | OK | OK | ![]() | ||||||||
merida1 | macOS 10.14.6 Mojave / x86_64 | OK | OK | OK | NA | |||||||||
Package: shinyMethyl |
Version: 1.32.0 |
Command: chmod a+r shinyMethyl -R && F:\biocbuild\bbs-3.15-bioc\R\bin\R.exe CMD build --keep-empty-dirs --no-resave-data shinyMethyl |
StartedAt: 2022-06-23 21:07:31 -0400 (Thu, 23 Jun 2022) |
EndedAt: 2022-06-23 21:10:12 -0400 (Thu, 23 Jun 2022) |
EllapsedTime: 160.7 seconds |
RetCode: 0 |
Status: OK |
PackageFile: shinyMethyl_1.32.0.tar.gz |
PackageFileSize: 8.956 MiB |
############################################################################## ############################################################################## ### ### Running command: ### ### chmod a+r shinyMethyl -R && F:\biocbuild\bbs-3.15-bioc\R\bin\R.exe CMD build --keep-empty-dirs --no-resave-data shinyMethyl ### ############################################################################## ############################################################################## * checking for file 'shinyMethyl/DESCRIPTION' ... OK * preparing 'shinyMethyl': * checking DESCRIPTION meta-information ... OK * installing the package to build vignettes * creating vignettes ... OK * checking for LF line-endings in source and make files and shell scripts * checking for empty or unneeded directories * building 'shinyMethyl_1.32.0.tar.gz'