Back to Multiple platform build/check report for BioC 3.16:   simplified   long
ABCDEFGHIJKLMNOPQR[S]TUVWXYZ

This page was generated on 2023-03-31 11:07:00 -0400 (Fri, 31 Mar 2023).

HostnameOSArch (*)R versionInstalled pkgs
nebbiolo2Linux (Ubuntu 20.04.5 LTS)x86_644.2.3 (2023-03-15) -- "Shortstop Beagle" 4498
palomino4Windows Server 2022 Datacenterx644.2.3 (2023-03-15 ucrt) -- "Shortstop Beagle" 4278
lconwaymacOS 12.5.1 Montereyx86_644.2.3 (2023-03-15) -- "Shortstop Beagle" 4306
Click on any hostname to see more info about the system (e.g. compilers)      (*) as reported by 'uname -p', except on Windows and Mac OS X

BUILD BIN results for scater on lconway


To the developers/maintainers of the scater package:
- Please allow up to 24 hours (and sometimes 48 hours) for your latest push to git@git.bioconductor.org:packages/scater.git to
reflect on this report. See How and When does the builder pull? When will my changes propagate? for more information.
- Make sure to use the following settings in order to reproduce any error or warning you see on this page.

raw results

Package 1783/2183HostnameOS / ArchINSTALLBUILDCHECKBUILD BIN
scater 1.26.1  (landing page)
Alan O'Callaghan
Snapshot Date: 2023-03-29 14:00:04 -0400 (Wed, 29 Mar 2023)
git_url: https://git.bioconductor.org/packages/scater
git_branch: RELEASE_3_16
git_last_commit: d73b6c0
git_last_commit_date: 2022-11-13 08:00:06 -0400 (Sun, 13 Nov 2022)
nebbiolo2Linux (Ubuntu 20.04.5 LTS) / x86_64  OK    OK    OK  UNNEEDED, same version is already published
palomino4Windows Server 2022 Datacenter / x64  OK    OK    OK    OK  UNNEEDED, same version is already published
lconwaymacOS 12.5.1 Monterey / x86_64  OK    OK    OK    OK  UNNEEDED, same version is already published

Summary

Package: scater
Version: 1.26.1
Command: rm -rf scater.buildbin-libdir && mkdir scater.buildbin-libdir && /Users/biocbuild/BBS/utils/build-universal.sh scater_1.26.1.tar.gz /Library/Frameworks/R.framework/Resources/bin/R scater.buildbin-libdir
StartedAt: 2023-03-30 00:00:57 -0400 (Thu, 30 Mar 2023)
EndedAt: 2023-03-30 00:01:34 -0400 (Thu, 30 Mar 2023)
EllapsedTime: 37.3 seconds
RetCode: 0
Status:   OK  
PackageFile: scater_1.26.1.tgz
PackageFileSize: 4.134 MiB

Command output

##############################################################################
##############################################################################
###
### Running command:
###
###   rm -rf scater.buildbin-libdir && mkdir scater.buildbin-libdir && /Users/biocbuild/BBS/utils/build-universal.sh scater_1.26.1.tar.gz /Library/Frameworks/R.framework/Resources/bin/R scater.buildbin-libdir
###
##############################################################################
##############################################################################


>>>>>>> 
>>>>>>> INSTALLATION WITH 'R CMD INSTALL --preclean --no-multiarch --library=scater.buildbin-libdir scater_1.26.1.tar.gz'
>>>>>>> 

* installing *source* package ‘scater’ ...
** using staged installation
** R
** inst
** byte-compile and prepare package for lazy loading
** help
*** installing help indices
** building package indices
** installing vignettes
** testing if installed package can be loaded from temporary location
** testing if installed package can be loaded from final location
** testing if installed package keeps a record of temporary installation path
* DONE (scater)