Index of /checkResults/release/bioc-LATEST/scDblFinder/raw-results

[ICO]NameLast modifiedSizeDescription

[DIR]Parent Directory  -  
[   ]info.dcf01-Dec-2022 01:09 296  
[DIR]kjohnson/12-Jul-2022 00:06 -  
[DIR]lconway/01-Dec-2022 01:09 -  
[DIR]nebbiolo2/01-Dec-2022 01:06 -  
[DIR]palomino4/01-Dec-2022 01:07 -