Index of /checkResults/release/bioc-LATEST/scDblFinder/raw-results/palomino4

[ICO]NameLast modifiedSizeDescription

[DIR]Parent Directory  -  
[TXT]buildbin-out.txt31-Jan-2023 01:07 1.1K 
[   ]buildbin-summary.dcf31-Jan-2023 01:07 539  
[TXT]buildsrc-out.txt31-Jan-2023 01:07 859  
[   ]buildsrc-summary.dcf31-Jan-2023 01:07 469  
[TXT]checksrc-out.txt31-Jan-2023 01:07 3.7K 
[   ]checksrc-summary.dcf31-Jan-2023 01:07 463  
[TXT]install-out.txt31-Jan-2023 01:07 1.0K 
[   ]install-summary.dcf31-Jan-2023 01:07 276