![]() | Name | Last modified | Size | Description |
---|---|---|---|---|
![]() | Parent Directory | - | ||
![]() | buildsrc-out.txt | 31-Jan-2023 01:06 | 822 | |
![]() | buildsrc-summary.dcf | 31-Jan-2023 01:06 | 430 | |
![]() | checksrc-out.txt | 31-Jan-2023 01:06 | 4.0K | |
![]() | checksrc-summary.dcf | 31-Jan-2023 01:06 | 425 | |
![]() | install-out.txt | 31-Jan-2023 01:06 | 959 | |
![]() | install-summary.dcf | 31-Jan-2023 01:06 | 267 | |