Index of /checkResults/release/bioc-LATEST/scDblFinder/raw-results/kunpeng2
Name
Last modified
Size
Description
Parent Directory
-
buildsrc-out.txt
03-Nov-2023 00:41
649
buildsrc-summary.dcf
03-Nov-2023 00:41
342
install-out.txt
03-Nov-2023 00:41
952
install-summary.dcf
03-Nov-2023 00:41
261